| Back to Multiple platform build/check report for BioC 3.9 |
|
This page was generated on 2019-10-16 12:38:23 -0400 (Wed, 16 Oct 2019).
| Package 179/1741 | Hostname | OS / Arch | INSTALL | BUILD | CHECK | BUILD BIN | ||||||
| BLMA 1.8.0 Tin Nguyen
| malbec2 | Linux (Ubuntu 18.04.2 LTS) / x86_64 | OK | OK | OK | |||||||
| tokay2 | Windows Server 2012 R2 Standard / x64 | OK | OK | OK | [ OK ] | |||||||
| celaya2 | OS X 10.11.6 El Capitan / x86_64 | OK | OK | OK | OK |
| Package: BLMA |
| Version: 1.8.0 |
| Command: rm -rf BLMA.buildbin-libdir && mkdir BLMA.buildbin-libdir && C:\Users\biocbuild\bbs-3.9-bioc\R\bin\R.exe CMD INSTALL --merge-multiarch --build --library=BLMA.buildbin-libdir BLMA_1.8.0.tar.gz |
| StartedAt: 2019-10-16 08:48:24 -0400 (Wed, 16 Oct 2019) |
| EndedAt: 2019-10-16 08:48:54 -0400 (Wed, 16 Oct 2019) |
| EllapsedTime: 30.0 seconds |
| RetCode: 0 |
| Status: OK |
| PackageFile: BLMA_1.8.0.zip |
| PackageFileSize: 2.771 MiB |
##############################################################################
##############################################################################
###
### Running command:
###
### rm -rf BLMA.buildbin-libdir && mkdir BLMA.buildbin-libdir && C:\Users\biocbuild\bbs-3.9-bioc\R\bin\R.exe CMD INSTALL --merge-multiarch --build --library=BLMA.buildbin-libdir BLMA_1.8.0.tar.gz
###
##############################################################################
##############################################################################
install for i386
* installing *source* package 'BLMA' ...
** using staged installation
** R
** data
** inst
** byte-compile and prepare package for lazy loading
** help
*** installing help indices
converting help for package 'BLMA'
finding HTML links ... done
GSE17054 html
GSE33223 html
GSE42140 html
GSE57194 html
addCLT html
bilevelAnalysisClassic html
bilevelAnalysisGene html
bilevelAnalysisGeneset html
finding level-2 HTML links ... done
bilevelAnalysisPathway html
fisherMethod html
intraAnalysisClassic html
intraAnalysisGene html
loadKEGGPathways html
stoufferMethod html
** building package indices
** installing vignettes
** testing if installed package can be loaded from temporary location
** testing if installed package can be loaded from final location
** testing if installed package keeps a record of temporary installation path
install for x64
* installing *source* package 'BLMA' ...
** testing if installed package can be loaded
* MD5 sums
packaged installation of 'BLMA' as BLMA_1.8.0.zip
* DONE (BLMA)