| Back to Multiple platform build/check report for BioC 3.9 | 
 | 
This page was generated on 2019-10-16 12:24:53 -0400 (Wed, 16 Oct 2019).
| Package 62/1741 | Hostname | OS / Arch | INSTALL | BUILD | CHECK | BUILD BIN | ||||||
| AnnotationFuncs 1.34.0 Stefan McKinnon Edwards 
 | malbec2 | Linux (Ubuntu 18.04.2 LTS) / x86_64 | OK | OK | OK |  | ||||||
| tokay2 | Windows Server 2012 R2 Standard / x64 | [ OK ] | OK | OK | OK |  | ||||||
| celaya2 | OS X 10.11.6 El Capitan / x86_64 | OK | OK | OK | OK |  | 
| Package: AnnotationFuncs | 
| Version: 1.34.0 | 
| Command: C:\cygwin\bin\curl.exe -O https://malbec2.bioconductor.org/BBS/3.9/bioc/src/contrib/AnnotationFuncs_1.34.0.tar.gz && rm -rf AnnotationFuncs.buildbin-libdir && mkdir AnnotationFuncs.buildbin-libdir && C:\Users\biocbuild\bbs-3.9-bioc\R\bin\R.exe CMD INSTALL --merge-multiarch --build --library=AnnotationFuncs.buildbin-libdir AnnotationFuncs_1.34.0.tar.gz && C:\Users\biocbuild\bbs-3.9-bioc\R\bin\R.exe CMD INSTALL AnnotationFuncs_1.34.0.zip && rm AnnotationFuncs_1.34.0.tar.gz AnnotationFuncs_1.34.0.zip | 
| StartedAt: 2019-10-15 19:07:09 -0400 (Tue, 15 Oct 2019) | 
| EndedAt: 2019-10-15 19:07:47 -0400 (Tue, 15 Oct 2019) | 
| EllapsedTime: 37.3 seconds | 
| RetCode: 0 | 
| Status: OK | 
##############################################################################
##############################################################################
###
### Running command:
###
###   C:\cygwin\bin\curl.exe -O https://malbec2.bioconductor.org/BBS/3.9/bioc/src/contrib/AnnotationFuncs_1.34.0.tar.gz && rm -rf AnnotationFuncs.buildbin-libdir && mkdir AnnotationFuncs.buildbin-libdir && C:\Users\biocbuild\bbs-3.9-bioc\R\bin\R.exe CMD INSTALL --merge-multiarch --build --library=AnnotationFuncs.buildbin-libdir AnnotationFuncs_1.34.0.tar.gz && C:\Users\biocbuild\bbs-3.9-bioc\R\bin\R.exe CMD INSTALL AnnotationFuncs_1.34.0.zip && rm AnnotationFuncs_1.34.0.tar.gz AnnotationFuncs_1.34.0.zip
###
##############################################################################
##############################################################################
  % Total    % Received % Xferd  Average Speed   Time    Time     Time  Current
                                 Dload  Upload   Total   Spent    Left  Speed
  0     0    0     0    0     0      0      0 --:--:-- --:--:-- --:--:--     0
100 22913  100 22913    0     0   243k      0 --:--:-- --:--:-- --:--:--  263k
install for i386
* installing *source* package 'AnnotationFuncs' ...
** using staged installation
** R
** inst
** byte-compile and prepare package for lazy loading
** help
*** installing help indices
  converting help for package 'AnnotationFuncs'
    finding HTML links ... done
    AnnotationFuncs-package                 html  
    dbEscapeString2                         html  
    getEvidenceCodes                        html  
    getOrthologs                            html  
    getTableName2                           html  
    mapLists                                html  
    pickGO                                  html  
    pickRef2                                html  
    pickRefSeq                              html  
    removeNAs                               html  
    translate                               html  
** building package indices
** installing vignettes
** testing if installed package can be loaded from temporary location
** testing if installed package can be loaded from final location
** testing if installed package keeps a record of temporary installation path
install for x64
* installing *source* package 'AnnotationFuncs' ...
** testing if installed package can be loaded
* MD5 sums
packaged installation of 'AnnotationFuncs' as AnnotationFuncs_1.34.0.zip
* DONE (AnnotationFuncs)
* installing to library 'C:/Users/biocbuild/bbs-3.9-bioc/R/library'
package 'AnnotationFuncs' successfully unpacked and MD5 sums checked