| Back to Multiple platform build/check report for BioC 3.9 |
|
This page was generated on 2019-10-16 12:41:00 -0400 (Wed, 16 Oct 2019).
| Package 86/1741 | Hostname | OS / Arch | INSTALL | BUILD | CHECK | BUILD BIN | ||||||
| ASICS 2.0.1 Gaƫlle Lefort
| malbec2 | Linux (Ubuntu 18.04.2 LTS) / x86_64 | OK | OK | OK | |||||||
| tokay2 | Windows Server 2012 R2 Standard / x64 | OK | OK | OK | [ OK ] | |||||||
| celaya2 | OS X 10.11.6 El Capitan / x86_64 | OK | OK | WARNINGS | OK |
| Package: ASICS |
| Version: 2.0.1 |
| Command: rm -rf ASICS.buildbin-libdir && mkdir ASICS.buildbin-libdir && C:\Users\biocbuild\bbs-3.9-bioc\R\bin\R.exe CMD INSTALL --merge-multiarch --build --library=ASICS.buildbin-libdir ASICS_2.0.1.tar.gz |
| StartedAt: 2019-10-16 08:42:50 -0400 (Wed, 16 Oct 2019) |
| EndedAt: 2019-10-16 08:43:49 -0400 (Wed, 16 Oct 2019) |
| EllapsedTime: 59.6 seconds |
| RetCode: 0 |
| Status: OK |
| PackageFile: ASICS_2.0.1.zip |
| PackageFileSize: 4.195 MiB |
##############################################################################
##############################################################################
###
### Running command:
###
### rm -rf ASICS.buildbin-libdir && mkdir ASICS.buildbin-libdir && C:\Users\biocbuild\bbs-3.9-bioc\R\bin\R.exe CMD INSTALL --merge-multiarch --build --library=ASICS.buildbin-libdir ASICS_2.0.1.tar.gz
###
##############################################################################
##############################################################################
install for i386
* installing *source* package 'ASICS' ...
** using staged installation
** R
** data
*** moving datasets to lazyload DB
** inst
** byte-compile and prepare package for lazy loading
** help
*** installing help indices
converting help for package 'ASICS'
finding HTML links ... done
ASICS html
ASICSResults-class html
ASICSUsersGuide html
AnalysisResults-class html
finding level-2 HTML links ... done
PureLibrary-class html
Spectra-class html
accessors-methods html
alignSpectra html
binning html
combineAndSubset-methods html
createPureLibrary html
createSpectra html
formatForAnalysis html
importSpectra html
importSpectraBruker html
kruskalWallis html
normaliseSpectra html
oplsda html
pca html
plotAlignment html
pure_library html
summary-methods html
visualisation-methods-analyses html
visualisation-methods-spectra html
** building package indices
** installing vignettes
** testing if installed package can be loaded from temporary location
** testing if installed package can be loaded from final location
** testing if installed package keeps a record of temporary installation path
install for x64
* installing *source* package 'ASICS' ...
** testing if installed package can be loaded
* MD5 sums
packaged installation of 'ASICS' as ASICS_2.0.1.zip
* DONE (ASICS)