| Back to Multiple platform build/check report for BioC 3.9 |
|
This page was generated on 2019-10-16 12:42:57 -0400 (Wed, 16 Oct 2019).
| Package 16/1741 | Hostname | OS / Arch | INSTALL | BUILD | CHECK | BUILD BIN | ||||||
| ADAM 1.0.0 Jose Luiz Rybarczyk Filho
| malbec2 | Linux (Ubuntu 18.04.2 LTS) / x86_64 | OK | OK | OK | |||||||
| tokay2 | Windows Server 2012 R2 Standard / x64 | OK | OK | OK | [ OK ] | |||||||
| celaya2 | OS X 10.11.6 El Capitan / x86_64 | OK | OK | OK | OK |
| Package: ADAM |
| Version: 1.0.0 |
| Command: rm -rf ADAM.buildbin-libdir && mkdir ADAM.buildbin-libdir && C:\Users\biocbuild\bbs-3.9-bioc\R\bin\R.exe CMD INSTALL --merge-multiarch --build --library=ADAM.buildbin-libdir ADAM_1.0.0.tar.gz |
| StartedAt: 2019-10-16 08:38:09 -0400 (Wed, 16 Oct 2019) |
| EndedAt: 2019-10-16 08:39:39 -0400 (Wed, 16 Oct 2019) |
| EllapsedTime: 89.2 seconds |
| RetCode: 0 |
| Status: OK |
| PackageFile: ADAM_1.0.0.zip |
| PackageFileSize: 894.1 KiB |
##############################################################################
##############################################################################
###
### Running command:
###
### rm -rf ADAM.buildbin-libdir && mkdir ADAM.buildbin-libdir && C:\Users\biocbuild\bbs-3.9-bioc\R\bin\R.exe CMD INSTALL --merge-multiarch --build --library=ADAM.buildbin-libdir ADAM_1.0.0.tar.gz
###
##############################################################################
##############################################################################
install for i386
* installing *source* package 'ADAM' ...
** using staged installation
** libs
C:/Rtools/mingw_32/bin/g++ -std=gnu++11 -I"C:/Users/BIOCBU~1/BBS-3~1.9-B/R/include" -DNDEBUG -I"C:/Users/biocbuild/bbs-3.9-bioc/R/library/Rcpp/include" -I"C:/extsoft/include" -O2 -Wall -mtune=generic -c MakeBootstrap.cpp -o MakeBootstrap.o
C:/Rtools/mingw_32/bin/g++ -std=gnu++11 -I"C:/Users/BIOCBU~1/BBS-3~1.9-B/R/include" -DNDEBUG -I"C:/Users/biocbuild/bbs-3.9-bioc/R/library/Rcpp/include" -I"C:/extsoft/include" -O2 -Wall -mtune=generic -c RcppExports.cpp -o RcppExports.o
C:/Rtools/mingw_32/bin/g++ -shared -s -static-libgcc -o ADAM.dll tmp.def MakeBootstrap.o RcppExports.o -LC:/extsoft/lib/i386 -LC:/extsoft/lib -LC:/Users/BIOCBU~1/BBS-3~1.9-B/R/bin/i386 -lR
installing to C:/Users/biocbuild/bbs-3.9-bioc/meat/ADAM.buildbin-libdir/00LOCK-ADAM/00new/ADAM/libs/i386
** R
** data
*** moving datasets to lazyload DB
** inst
** byte-compile and prepare package for lazy loading
** help
*** installing help indices
converting help for package 'ADAM'
finding HTML links ... done
ExpressionAedes html
GFAGAnalysis html
KeggPathwaysAedes html
** building package indices
** installing vignettes
** testing if installed package can be loaded from temporary location
** testing if installed package can be loaded from final location
** testing if installed package keeps a record of temporary installation path
install for x64
* installing *source* package 'ADAM' ...
** libs
C:/Rtools/mingw_64/bin/g++ -std=gnu++11 -I"C:/Users/BIOCBU~1/BBS-3~1.9-B/R/include" -DNDEBUG -I"C:/Users/biocbuild/bbs-3.9-bioc/R/library/Rcpp/include" -I"C:/extsoft/include" -O2 -Wall -mtune=generic -c MakeBootstrap.cpp -o MakeBootstrap.o
C:/Rtools/mingw_64/bin/g++ -std=gnu++11 -I"C:/Users/BIOCBU~1/BBS-3~1.9-B/R/include" -DNDEBUG -I"C:/Users/biocbuild/bbs-3.9-bioc/R/library/Rcpp/include" -I"C:/extsoft/include" -O2 -Wall -mtune=generic -c RcppExports.cpp -o RcppExports.o
C:/Rtools/mingw_64/bin/g++ -shared -s -static-libgcc -o ADAM.dll tmp.def MakeBootstrap.o RcppExports.o -LC:/extsoft/lib/x64 -LC:/extsoft/lib -LC:/Users/BIOCBU~1/BBS-3~1.9-B/R/bin/x64 -lR
installing to C:/Users/biocbuild/bbs-3.9-bioc/meat/ADAM.buildbin-libdir/ADAM/libs/x64
** testing if installed package can be loaded
* MD5 sums
packaged installation of 'ADAM' as ADAM_1.0.0.zip
* DONE (ADAM)