| Back to Multiple platform build/check report for BioC 3.9 |
|
This page was generated on 2019-10-16 12:41:56 -0400 (Wed, 16 Oct 2019).
| Package 12/1741 | Hostname | OS / Arch | INSTALL | BUILD | CHECK | BUILD BIN | ||||||
| ACE 1.2.0 Jos B Poell
| malbec2 | Linux (Ubuntu 18.04.2 LTS) / x86_64 | OK | OK | OK | |||||||
| tokay2 | Windows Server 2012 R2 Standard / x64 | OK | OK | OK | [ OK ] | |||||||
| celaya2 | OS X 10.11.6 El Capitan / x86_64 | OK | OK | OK | OK |
| Package: ACE |
| Version: 1.2.0 |
| Command: rm -rf ACE.buildbin-libdir && mkdir ACE.buildbin-libdir && C:\Users\biocbuild\bbs-3.9-bioc\R\bin\R.exe CMD INSTALL --merge-multiarch --build --library=ACE.buildbin-libdir ACE_1.2.0.tar.gz |
| StartedAt: 2019-10-16 08:38:09 -0400 (Wed, 16 Oct 2019) |
| EndedAt: 2019-10-16 08:38:47 -0400 (Wed, 16 Oct 2019) |
| EllapsedTime: 37.6 seconds |
| RetCode: 0 |
| Status: OK |
| PackageFile: ACE_1.2.0.zip |
| PackageFileSize: 1019 KiB |
##############################################################################
##############################################################################
###
### Running command:
###
### rm -rf ACE.buildbin-libdir && mkdir ACE.buildbin-libdir && C:\Users\biocbuild\bbs-3.9-bioc\R\bin\R.exe CMD INSTALL --merge-multiarch --build --library=ACE.buildbin-libdir ACE_1.2.0.tar.gz
###
##############################################################################
##############################################################################
install for i386
* installing *source* package 'ACE' ...
** using staged installation
** R
** data
*** moving datasets to lazyload DB
** inst
** byte-compile and prepare package for lazy loading
** help
*** installing help indices
converting help for package 'ACE'
finding HTML links ... done
ACE-package html
ACEcall html
analyzegenomiclocations html
compresstemplate html
copyNumbersSegmented html
correlationmatrix html
forcesegmentsontemplate html
getadjustedsegments html
linkvariants html
loopsquaremodel html
objectsampletotemplate html
postanalysisloop html
runACE html
segmentstotemplate html
singlemodel html
singleplot html
squaremodel html
squaremodelsummary html
templatefromequalsegments html
twosamplecompare html
** building package indices
** installing vignettes
** testing if installed package can be loaded from temporary location
** testing if installed package can be loaded from final location
** testing if installed package keeps a record of temporary installation path
install for x64
* installing *source* package 'ACE' ...
** testing if installed package can be loaded
* MD5 sums
packaged installation of 'ACE' as ACE_1.2.0.zip
* DONE (ACE)