| Back to Multiple platform build/check report for BioC 3.9 | 
 | 
This page was generated on 2019-04-09 13:24:34 -0400 (Tue, 09 Apr 2019).
| Package 1694/1703 | Hostname | OS / Arch | INSTALL | BUILD | CHECK | BUILD BIN | ||||||
| xmapbridge 1.41.0 Chris Wirth 
 | malbec2 | Linux (Ubuntu 18.04.2 LTS) / x86_64 | OK | OK | OK |  | ||||||
| tokay2 | Windows Server 2012 R2 Standard / x64 | OK | OK | OK | OK |  | ||||||
| celaya2 | OS X 10.11.6 El Capitan / x86_64 | OK | OK | OK | OK |  | ||||||
| merida2 | OS X 10.11.6 El Capitan / x86_64 | OK | OK | OK | [ OK ] | 
| Package: xmapbridge | 
| Version: 1.41.0 | 
| Command: rm -rf xmapbridge.buildbin-libdir && mkdir xmapbridge.buildbin-libdir && /Users/biocbuild/BBS/utils/build-universal.sh xmapbridge_1.41.0.tar.gz /Library/Frameworks/R.framework/Versions/Current/Resources/bin/R xmapbridge.buildbin-libdir | 
| StartedAt: 2019-04-09 06:45:47 -0400 (Tue, 09 Apr 2019) | 
| EndedAt: 2019-04-09 06:47:03 -0400 (Tue, 09 Apr 2019) | 
| EllapsedTime: 75.3 seconds | 
| RetCode: 0 | 
| Status: OK | 
| PackageFile: xmapbridge_1.41.0.tgz | 
| PackageFileSize: 1.598 MiB | 
############################################################################## ############################################################################## ### ### Running command: ### ### rm -rf xmapbridge.buildbin-libdir && mkdir xmapbridge.buildbin-libdir && /Users/biocbuild/BBS/utils/build-universal.sh xmapbridge_1.41.0.tar.gz /Library/Frameworks/R.framework/Versions/Current/Resources/bin/R xmapbridge.buildbin-libdir ### ############################################################################## ############################################################################## >>>>>>> >>>>>>> INSTALLATION WITH 'R CMD INSTALL --preclean --no-multiarch --library=xmapbridge.buildbin-libdir xmapbridge_1.41.0.tar.gz' >>>>>>> * installing *source* package ‘xmapbridge’ ... ** R ** data ** inst ** byte-compile and prepare package for lazy loading ** help *** installing help indices ** building package indices ** installing vignettes ** testing if installed package can be loaded * DONE (xmapbridge)