| Back to Multiple platform build/check report for BioC 3.9 |
|
This page was generated on 2019-04-09 13:34:51 -0400 (Tue, 09 Apr 2019).
| Package 1687/1703 | Hostname | OS / Arch | INSTALL | BUILD | CHECK | BUILD BIN | ||||||
| wiggleplotr 1.7.1 Kaur Alasoo
| malbec2 | Linux (Ubuntu 18.04.2 LTS) / x86_64 | OK | OK | WARNINGS | |||||||
| tokay2 | Windows Server 2012 R2 Standard / x64 | OK | OK | ERROR | OK | |||||||
| celaya2 | OS X 10.11.6 El Capitan / x86_64 | OK | OK | WARNINGS | OK | |||||||
| merida2 | OS X 10.11.6 El Capitan / x86_64 | OK | OK | WARNINGS | [ OK ] |
| Package: wiggleplotr |
| Version: 1.7.1 |
| Command: rm -rf wiggleplotr.buildbin-libdir && mkdir wiggleplotr.buildbin-libdir && /Users/biocbuild/BBS/utils/build-universal.sh wiggleplotr_1.7.1.tar.gz /Library/Frameworks/R.framework/Versions/Current/Resources/bin/R wiggleplotr.buildbin-libdir |
| StartedAt: 2019-04-09 06:45:15 -0400 (Tue, 09 Apr 2019) |
| EndedAt: 2019-04-09 06:46:31 -0400 (Tue, 09 Apr 2019) |
| EllapsedTime: 76.0 seconds |
| RetCode: 0 |
| Status: OK |
| PackageFile: wiggleplotr_1.7.1.tgz |
| PackageFileSize: 457 KiB |
############################################################################## ############################################################################## ### ### Running command: ### ### rm -rf wiggleplotr.buildbin-libdir && mkdir wiggleplotr.buildbin-libdir && /Users/biocbuild/BBS/utils/build-universal.sh wiggleplotr_1.7.1.tar.gz /Library/Frameworks/R.framework/Versions/Current/Resources/bin/R wiggleplotr.buildbin-libdir ### ############################################################################## ############################################################################## >>>>>>> >>>>>>> INSTALLATION WITH 'R CMD INSTALL --preclean --no-multiarch --library=wiggleplotr.buildbin-libdir wiggleplotr_1.7.1.tar.gz' >>>>>>> * installing *source* package ‘wiggleplotr’ ... ** R ** data *** moving datasets to lazyload DB ** inst ** byte-compile and prepare package for lazy loading ** help *** installing help indices ** building package indices ** installing vignettes ** testing if installed package can be loaded * DONE (wiggleplotr)