| Back to Multiple platform build/check report for BioC 3.9 | 
 | 
This page was generated on 2019-04-09 11:53:18 -0400 (Tue, 09 Apr 2019).
| Package 1686/1703 | Hostname | OS / Arch | INSTALL | BUILD | CHECK | BUILD BIN | ||||||
| widgetTools 1.61.0 Jianhua Zhang 
 | malbec2 | Linux (Ubuntu 18.04.2 LTS) / x86_64 | OK | OK | OK |  | ||||||
| tokay2 | Windows Server 2012 R2 Standard / x64 | [ OK ] | OK | OK | OK |  | ||||||
| celaya2 | OS X 10.11.6 El Capitan / x86_64 | OK | OK | OK | OK |  | ||||||
| merida2 | OS X 10.11.6 El Capitan / x86_64 | OK | OK | OK | OK | 
| Package: widgetTools | 
| Version: 1.61.0 | 
| Command: C:\cygwin\bin\curl.exe -O https://malbec2.bioconductor.org/BBS/3.9/bioc/src/contrib/widgetTools_1.61.0.tar.gz && rm -rf widgetTools.buildbin-libdir && mkdir widgetTools.buildbin-libdir && C:\Users\biocbuild\bbs-3.9-bioc\R\bin\R.exe CMD INSTALL --merge-multiarch --build --library=widgetTools.buildbin-libdir widgetTools_1.61.0.tar.gz && C:\Users\biocbuild\bbs-3.9-bioc\R\bin\R.exe CMD INSTALL widgetTools_1.61.0.zip && rm widgetTools_1.61.0.tar.gz widgetTools_1.61.0.zip | 
| StartedAt: 2019-04-08 18:28:25 -0400 (Mon, 08 Apr 2019) | 
| EndedAt: 2019-04-08 18:29:13 -0400 (Mon, 08 Apr 2019) | 
| EllapsedTime: 47.4 seconds | 
| RetCode: 0 | 
| Status: OK | 
##############################################################################
##############################################################################
###
### Running command:
###
###   C:\cygwin\bin\curl.exe -O https://malbec2.bioconductor.org/BBS/3.9/bioc/src/contrib/widgetTools_1.61.0.tar.gz && rm -rf widgetTools.buildbin-libdir && mkdir widgetTools.buildbin-libdir && C:\Users\biocbuild\bbs-3.9-bioc\R\bin\R.exe CMD INSTALL --merge-multiarch --build --library=widgetTools.buildbin-libdir widgetTools_1.61.0.tar.gz && C:\Users\biocbuild\bbs-3.9-bioc\R\bin\R.exe CMD INSTALL widgetTools_1.61.0.zip && rm widgetTools_1.61.0.tar.gz widgetTools_1.61.0.zip
###
##############################################################################
##############################################################################
  % Total    % Received % Xferd  Average Speed   Time    Time     Time  Current
                                 Dload  Upload   Total   Spent    Left  Speed
  0     0    0     0    0     0      0      0 --:--:-- --:--:-- --:--:--     0
100 34999  100 34999    0     0   584k      0 --:--:-- --:--:-- --:--:--  657k
install for i386
* installing *source* package 'widgetTools' ...
** R
** byte-compile and prepare package for lazy loading
** help
*** installing help indices
  converting help for package 'widgetTools'
    finding HTML links ... done
    basicPW-class                           html  
    button                                  html  
    dropdownList                            html  
    makeViewer                              html  
    oneVScrList                             html  
    safeFileOpen                            html  
    tooltip                                 html  
    widget-class                            html  
    widgetView-class                        html  
    writeText                               html  
** building package indices
** installing vignettes
** testing if installed package can be loaded from temporary location
** testing if installed package can be loaded from final location
** testing if installed package keeps a record of temporary installation path
install for x64
* installing *source* package 'widgetTools' ...
** testing if installed package can be loaded
* MD5 sums
packaged installation of 'widgetTools' as widgetTools_1.61.0.zip
* DONE (widgetTools)
* installing to library 'C:/Users/biocbuild/bbs-3.9-bioc/R/library'
package 'widgetTools' successfully unpacked and MD5 sums checked