| Back to Multiple platform build/check report for BioC 3.9 |
|
This page was generated on 2019-04-09 13:06:18 -0400 (Tue, 09 Apr 2019).
| Package 1681/1703 | Hostname | OS / Arch | INSTALL | BUILD | CHECK | BUILD BIN | ||||||
| wateRmelon 1.27.0 Leo
| malbec2 | Linux (Ubuntu 18.04.2 LTS) / x86_64 | OK | OK | ERROR | |||||||
| tokay2 | Windows Server 2012 R2 Standard / x64 | OK | OK | ERROR | OK | |||||||
| celaya2 | OS X 10.11.6 El Capitan / x86_64 | OK | [ OK ] | ERROR | OK | |||||||
| merida2 | OS X 10.11.6 El Capitan / x86_64 | OK | OK | WARNINGS | OK |
| Package: wateRmelon |
| Version: 1.27.0 |
| Command: /Library/Frameworks/R.framework/Versions/Current/Resources/bin/R CMD build --keep-empty-dirs --no-resave-data wateRmelon |
| StartedAt: 2019-04-08 20:27:20 -0400 (Mon, 08 Apr 2019) |
| EndedAt: 2019-04-08 20:30:16 -0400 (Mon, 08 Apr 2019) |
| EllapsedTime: 176.2 seconds |
| RetCode: 0 |
| Status: OK |
| PackageFile: wateRmelon_1.27.0.tar.gz |
| PackageFileSize: 1.065 MiB |
##############################################################################
##############################################################################
###
### Running command:
###
### /Library/Frameworks/R.framework/Versions/Current/Resources/bin/R CMD build --keep-empty-dirs --no-resave-data wateRmelon
###
##############################################################################
##############################################################################
* checking for file ‘wateRmelon/DESCRIPTION’ ... OK
* preparing ‘wateRmelon’:
* checking DESCRIPTION meta-information ... OK
* installing the package to build vignettes
* creating vignettes ... OK
Warning: ‘inst/doc’ file
‘wateRmelon.pdf’
ignored as vignettes have been rebuilt.
Run R CMD build with --no-build-vignettes to prevent rebuilding.
* checking for LF line-endings in source and make files and shell scripts
* checking for empty or unneeded directories
* looking to see if a ‘data/datalist’ file should be added
* building ‘wateRmelon_1.27.0.tar.gz’