| Back to Multiple platform build/check report for BioC 3.9 | 
 | 
This page was generated on 2019-04-09 13:23:56 -0400 (Tue, 09 Apr 2019).
| Package 1672/1703 | Hostname | OS / Arch | INSTALL | BUILD | CHECK | BUILD BIN | ||||||
| vbmp 1.51.0 Nicola Lama 
 | malbec2 | Linux (Ubuntu 18.04.2 LTS) / x86_64 | OK | OK | OK |  | ||||||
| tokay2 | Windows Server 2012 R2 Standard / x64 | OK | OK | OK | OK |  | ||||||
| celaya2 | OS X 10.11.6 El Capitan / x86_64 | OK | OK | OK | OK |  | ||||||
| merida2 | OS X 10.11.6 El Capitan / x86_64 | OK | OK | OK | [ OK ] | 
| Package: vbmp | 
| Version: 1.51.0 | 
| Command: rm -rf vbmp.buildbin-libdir && mkdir vbmp.buildbin-libdir && /Users/biocbuild/BBS/utils/build-universal.sh vbmp_1.51.0.tar.gz /Library/Frameworks/R.framework/Versions/Current/Resources/bin/R vbmp.buildbin-libdir | 
| StartedAt: 2019-04-09 06:44:09 -0400 (Tue, 09 Apr 2019) | 
| EndedAt: 2019-04-09 06:45:20 -0400 (Tue, 09 Apr 2019) | 
| EllapsedTime: 71.3 seconds | 
| RetCode: 0 | 
| Status: OK | 
| PackageFile: vbmp_1.51.0.tgz | 
| PackageFileSize: 1.709 MiB | 
############################################################################## ############################################################################## ### ### Running command: ### ### rm -rf vbmp.buildbin-libdir && mkdir vbmp.buildbin-libdir && /Users/biocbuild/BBS/utils/build-universal.sh vbmp_1.51.0.tar.gz /Library/Frameworks/R.framework/Versions/Current/Resources/bin/R vbmp.buildbin-libdir ### ############################################################################## ############################################################################## >>>>>>> >>>>>>> INSTALLATION WITH 'R CMD INSTALL --preclean --no-multiarch --library=vbmp.buildbin-libdir vbmp_1.51.0.tar.gz' >>>>>>> * installing *source* package ‘vbmp’ ... ** R ** data ** inst ** byte-compile and prepare package for lazy loading ** help *** installing help indices ** building package indices ** installing vignettes ** testing if installed package can be loaded * DONE (vbmp)