| Back to Multiple platform build/check report for BioC 3.9 |
|
This page was generated on 2019-04-09 12:24:40 -0400 (Tue, 09 Apr 2019).
| Package 1668/1703 | Hostname | OS / Arch | INSTALL | BUILD | CHECK | BUILD BIN | ||||||
| variancePartition 1.13.6 Gabriel E. Hoffman
| malbec2 | Linux (Ubuntu 18.04.2 LTS) / x86_64 | OK | OK | OK | |||||||
| tokay2 | Windows Server 2012 R2 Standard / x64 | OK | OK | [ OK ] | OK | |||||||
| celaya2 | OS X 10.11.6 El Capitan / x86_64 | OK | OK | OK | OK | |||||||
| merida2 | OS X 10.11.6 El Capitan / x86_64 | OK | OK | OK | OK |
| Package: variancePartition |
| Version: 1.13.6 |
| Command: C:\Users\biocbuild\bbs-3.9-bioc\R\bin\R.exe CMD check --force-multiarch --install=check:variancePartition.install-out.txt --library=C:\Users\biocbuild\bbs-3.9-bioc\R\library --no-vignettes --timings variancePartition_1.13.6.tar.gz |
| StartedAt: 2019-04-09 06:33:46 -0400 (Tue, 09 Apr 2019) |
| EndedAt: 2019-04-09 06:45:33 -0400 (Tue, 09 Apr 2019) |
| EllapsedTime: 707.0 seconds |
| RetCode: 0 |
| Status: OK |
| CheckDir: variancePartition.Rcheck |
| Warnings: 0 |
##############################################################################
##############################################################################
###
### Running command:
###
### C:\Users\biocbuild\bbs-3.9-bioc\R\bin\R.exe CMD check --force-multiarch --install=check:variancePartition.install-out.txt --library=C:\Users\biocbuild\bbs-3.9-bioc\R\library --no-vignettes --timings variancePartition_1.13.6.tar.gz
###
##############################################################################
##############################################################################
* using log directory 'C:/Users/biocbuild/bbs-3.9-bioc/meat/variancePartition.Rcheck'
* using R Under development (unstable) (2019-03-09 r76216)
* using platform: x86_64-w64-mingw32 (64-bit)
* using session charset: ISO8859-1
* using option '--no-vignettes'
* checking for file 'variancePartition/DESCRIPTION' ... OK
* checking extension type ... Package
* this is package 'variancePartition' version '1.13.6'
* checking package namespace information ... OK
* checking package dependencies ... OK
* checking if this is a source package ... OK
* checking if there is a namespace ... OK
* checking for hidden files and directories ... OK
* checking for portable file names ... OK
* checking whether package 'variancePartition' can be installed ... OK
* checking installed package size ... OK
* checking package directory ... OK
* checking 'build' directory ... OK
* checking DESCRIPTION meta-information ... OK
* checking top-level files ... OK
* checking for left-over files ... OK
* checking index information ... OK
* checking package subdirectories ... OK
* checking R files for non-ASCII characters ... OK
* checking R files for syntax errors ... OK
* loading checks for arch 'i386'
** checking whether the package can be loaded ... OK
** checking whether the package can be loaded with stated dependencies ... OK
** checking whether the package can be unloaded cleanly ... OK
** checking whether the namespace can be loaded with stated dependencies ... OK
** checking whether the namespace can be unloaded cleanly ... OK
* loading checks for arch 'x64'
** checking whether the package can be loaded ... OK
** checking whether the package can be loaded with stated dependencies ... OK
** checking whether the package can be unloaded cleanly ... OK
** checking whether the namespace can be loaded with stated dependencies ... OK
** checking whether the namespace can be unloaded cleanly ... OK
* checking dependencies in R code ... OK
* checking S3 generic/method consistency ... NOTE
Found the following apparent S3 methods exported but not registered:
[.MArrayLM2
See section 'Registering S3 methods' in the 'Writing R Extensions'
manual.
* checking replacement functions ... OK
* checking foreign function calls ... OK
* checking R code for possible problems ... OK
* checking Rd files ... OK
* checking Rd metadata ... OK
* checking Rd cross-references ... OK
* checking for missing documentation entries ... OK
* checking for code/documentation mismatches ... OK
* checking Rd \usage sections ... OK
* checking Rd contents ... OK
* checking for unstated dependencies in examples ... OK
* checking contents of 'data' directory ... OK
* checking data for non-ASCII characters ... OK
* checking data for ASCII and uncompressed saves ... OK
* checking files in 'vignettes' ... OK
* checking examples ...
** running examples for arch 'i386' ... OK
Examples with CPU or elapsed time > 5s
user system elapsed
fitVarPartModel-method 28.71 12.42 81.52
extractVarPart 11.58 3.33 23.39
getVarianceComponents 7.12 1.22 14.75
residuals-VarParFitList-method 4.97 1.07 11.83
varPartConfInf 4.67 0.06 33.75
fitExtractVarPartModel-method 1.34 0.64 15.95
plotCompareP-method 1.22 0.04 15.14
plotCorrStructure 1.16 0.08 6.05
plotVarPart-method 1.19 0.04 9.50
plotPercentBars 0.88 0.06 8.93
sortCols-method 0.81 0.10 14.92
dream-method 0.72 0.04 6.22
** running examples for arch 'x64' ... OK
Examples with CPU or elapsed time > 5s
user system elapsed
fitVarPartModel-method 27.45 2.97 40.53
extractVarPart 15.18 1.15 24.80
getVarianceComponents 6.86 0.64 30.13
residuals-VarParFitList-method 4.70 0.46 10.55
varPartConfInf 3.82 0.12 59.33
fitExtractVarPartModel-method 1.60 0.09 19.47
plotCorrStructure 1.26 0.13 6.90
plotCompareP-method 1.19 0.06 12.94
sortCols-method 1.10 0.08 13.79
dream-method 0.91 0.06 7.39
plotPercentBars 0.94 0.02 9.88
plotVarPart-method 0.69 0.07 10.11
getContrast-method 0.20 0.05 9.39
* checking for unstated dependencies in 'tests' ... OK
* checking tests ...
** running tests for arch 'i386' ...
Running 'runTests.R'
OK
** running tests for arch 'x64' ...
Running 'runTests.R'
OK
* checking for unstated dependencies in vignettes ... OK
* checking package vignettes in 'inst/doc' ... OK
* checking running R code from vignettes ... SKIPPED
* checking re-building of vignette outputs ... SKIPPED
* checking PDF version of manual ... OK
* DONE
Status: 1 NOTE
See
'C:/Users/biocbuild/bbs-3.9-bioc/meat/variancePartition.Rcheck/00check.log'
for details.
variancePartition.Rcheck/00install.out
##############################################################################
##############################################################################
###
### Running command:
###
### C:\cygwin\bin\curl.exe -O https://malbec2.bioconductor.org/BBS/3.9/bioc/src/contrib/variancePartition_1.13.6.tar.gz && rm -rf variancePartition.buildbin-libdir && mkdir variancePartition.buildbin-libdir && C:\Users\biocbuild\bbs-3.9-bioc\R\bin\R.exe CMD INSTALL --merge-multiarch --build --library=variancePartition.buildbin-libdir variancePartition_1.13.6.tar.gz && C:\Users\biocbuild\bbs-3.9-bioc\R\bin\R.exe CMD INSTALL variancePartition_1.13.6.zip && rm variancePartition_1.13.6.tar.gz variancePartition_1.13.6.zip
###
##############################################################################
##############################################################################
% Total % Received % Xferd Average Speed Time Time Time Current
Dload Upload Total Spent Left Speed
0 0 0 0 0 0 0 0 --:--:-- --:--:-- --:--:-- 0
100 1365k 100 1365k 0 0 17.8M 0 --:--:-- --:--:-- --:--:-- 19.6M
install for i386
* installing *source* package 'variancePartition' ...
** R
** data
** inst
** byte-compile and prepare package for lazy loading
Creating a generic function for 'eBayes' from package 'limma' in package 'variancePartition'
** help
*** installing help indices
converting help for package 'variancePartition'
finding HTML links ... done
ESS-method html
MArrayLM2-class html
VarParCIList-class html
VarParFitList-class html
as.data.frame-varPartResults-method html
as.matrix-varPartResults-method html
calcVarPart-method html
canCorPairs html
colinearityScore html
dream-method html
eBayes-method html
extractVarPart html
fitExtractVarPartModel-method html
fitVarPartModel-method html
getContrast-method html
getVarianceComponents html
ggColorHue html
plotCompareP-method html
plotContrasts html
plotCorrMatrix html
plotCorrStructure html
plotPercentBars html
plotStratify html
plotStratifyBy html
plotVarPart-method html
residuals-VarParFitList-method html
sortCols-method html
subset.MArrayLM2-method html
varParFrac-class html
varPartConfInf html
varPartDEdata html
varPartData html
varPartResults-class html
** building package indices
** installing vignettes
** testing if installed package can be loaded from temporary location
** testing if installed package can be loaded from final location
** testing if installed package keeps a record of temporary installation path
install for x64
* installing *source* package 'variancePartition' ...
** testing if installed package can be loaded
* MD5 sums
packaged installation of 'variancePartition' as variancePartition_1.13.6.zip
* DONE (variancePartition)
* installing to library 'C:/Users/biocbuild/bbs-3.9-bioc/R/library'
package 'variancePartition' successfully unpacked and MD5 sums checked
|
variancePartition.Rcheck/tests_i386/runTests.Rout
R Under development (unstable) (2019-03-09 r76216) -- "Unsuffered Consequences"
Copyright (C) 2019 The R Foundation for Statistical Computing
Platform: i386-w64-mingw32/i386 (32-bit)
R is free software and comes with ABSOLUTELY NO WARRANTY.
You are welcome to redistribute it under certain conditions.
Type 'license()' or 'licence()' for distribution details.
R is a collaborative project with many contributors.
Type 'contributors()' for more information and
'citation()' on how to cite R or R packages in publications.
Type 'demo()' for some demos, 'help()' for on-line help, or
'help.start()' for an HTML browser interface to help.
Type 'q()' to quit R.
> BiocGenerics:::testPackage("variancePartition")
Attaching package: 'BiocGenerics'
The following objects are masked from 'package:parallel':
clusterApply, clusterApplyLB, clusterCall, clusterEvalQ,
clusterExport, clusterMap, parApply, parCapply, parLapply,
parLapplyLB, parRapply, parSapply, parSapplyLB
The following object is masked from 'package:limma':
plotMA
The following objects are masked from 'package:stats':
IQR, mad, sd, var, xtabs
The following objects are masked from 'package:base':
Filter, Find, Map, Position, Reduce, anyDuplicated, append,
as.data.frame, basename, cbind, colMeans, colSums, colnames,
dirname, do.call, duplicated, eval, evalq, get, grep, grepl,
intersect, is.unsorted, lapply, mapply, match, mget, order, paste,
pmax, pmax.int, pmin, pmin.int, rank, rbind, rowMeans, rowSums,
rownames, sapply, setdiff, sort, table, tapply, union, unique,
unsplit, which, which.max, which.min
Welcome to Bioconductor
Vignettes contain introductory material; view with
'browseVignettes()'. To cite Bioconductor, see
'citation("Biobase")', and for packages 'citation("pkgname")'.
Projected memory usage: > 3.1 Mb
Loading required package: Matrix
Attaching package: 'lmerTest'
The following object is masked from 'package:lme4':
lmer
The following object is masked from 'package:stats':
step
Finished...
Total: 12 s
Projected memory usage: > 3.1 Mb
Finished...
Total: 11 s
Projected memory usage: > 3.1 Mb
Finished...
Total: 13 s
RUNIT TEST PROTOCOL -- Tue Apr 09 06:44:49 2019
***********************************************
Number of test functions: 1
Number of errors: 0
Number of failures: 0
1 Test Suite :
variancePartition RUnit Tests - 1 test function, 0 errors, 0 failures
Number of test functions: 1
Number of errors: 0
Number of failures: 0
Warning message:
executing %dopar% sequentially: no parallel backend registered
>
> proc.time()
user system elapsed
39.71 0.31 40.25
|
variancePartition.Rcheck/tests_x64/runTests.Rout
R Under development (unstable) (2019-03-09 r76216) -- "Unsuffered Consequences"
Copyright (C) 2019 The R Foundation for Statistical Computing
Platform: x86_64-w64-mingw32/x64 (64-bit)
R is free software and comes with ABSOLUTELY NO WARRANTY.
You are welcome to redistribute it under certain conditions.
Type 'license()' or 'licence()' for distribution details.
R is a collaborative project with many contributors.
Type 'contributors()' for more information and
'citation()' on how to cite R or R packages in publications.
Type 'demo()' for some demos, 'help()' for on-line help, or
'help.start()' for an HTML browser interface to help.
Type 'q()' to quit R.
> BiocGenerics:::testPackage("variancePartition")
Attaching package: 'BiocGenerics'
The following objects are masked from 'package:parallel':
clusterApply, clusterApplyLB, clusterCall, clusterEvalQ,
clusterExport, clusterMap, parApply, parCapply, parLapply,
parLapplyLB, parRapply, parSapply, parSapplyLB
The following object is masked from 'package:limma':
plotMA
The following objects are masked from 'package:stats':
IQR, mad, sd, var, xtabs
The following objects are masked from 'package:base':
Filter, Find, Map, Position, Reduce, anyDuplicated, append,
as.data.frame, basename, cbind, colMeans, colSums, colnames,
dirname, do.call, duplicated, eval, evalq, get, grep, grepl,
intersect, is.unsorted, lapply, mapply, match, mget, order, paste,
pmax, pmax.int, pmin, pmin.int, rank, rbind, rowMeans, rowSums,
rownames, sapply, setdiff, sort, table, tapply, union, unique,
unsplit, which, which.max, which.min
Welcome to Bioconductor
Vignettes contain introductory material; view with
'browseVignettes()'. To cite Bioconductor, see
'citation("Biobase")', and for packages 'citation("pkgname")'.
Projected memory usage: > 4.6 Mb
Loading required package: Matrix
Attaching package: 'lmerTest'
The following object is masked from 'package:lme4':
lmer
The following object is masked from 'package:stats':
step
Finished...
Total: 10 s
Projected memory usage: > 4.6 Mb
Finished...
Total: 9 s
Projected memory usage: > 4.6 Mb
Finished...
Total: 10 s
RUNIT TEST PROTOCOL -- Tue Apr 09 06:45:23 2019
***********************************************
Number of test functions: 1
Number of errors: 0
Number of failures: 0
1 Test Suite :
variancePartition RUnit Tests - 1 test function, 0 errors, 0 failures
Number of test functions: 1
Number of errors: 0
Number of failures: 0
Warning message:
executing %dopar% sequentially: no parallel backend registered
>
> proc.time()
user system elapsed
33.28 0.34 33.62
|
|
variancePartition.Rcheck/examples_i386/variancePartition-Ex.timings
|
variancePartition.Rcheck/examples_x64/variancePartition-Ex.timings
|