| Back to Multiple platform build/check report for BioC 3.9 |
|
This page was generated on 2019-04-09 13:08:12 -0400 (Tue, 09 Apr 2019).
| Package 1640/1703 | Hostname | OS / Arch | INSTALL | BUILD | CHECK | BUILD BIN | ||||||
| trio 3.21.9 Holger Schwender
| malbec2 | Linux (Ubuntu 18.04.2 LTS) / x86_64 | OK | OK | OK | |||||||
| tokay2 | Windows Server 2012 R2 Standard / x64 | OK | OK | OK | OK | |||||||
| celaya2 | OS X 10.11.6 El Capitan / x86_64 | OK | [ OK ] | OK | OK | |||||||
| merida2 | OS X 10.11.6 El Capitan / x86_64 | OK | OK | OK | OK |
| Package: trio |
| Version: 3.21.9 |
| Command: /Library/Frameworks/R.framework/Versions/Current/Resources/bin/R CMD build --keep-empty-dirs --no-resave-data trio |
| StartedAt: 2019-04-08 20:37:15 -0400 (Mon, 08 Apr 2019) |
| EndedAt: 2019-04-08 20:39:02 -0400 (Mon, 08 Apr 2019) |
| EllapsedTime: 107.2 seconds |
| RetCode: 0 |
| Status: OK |
| PackageFile: trio_3.21.9.tar.gz |
| PackageFileSize: 751.7 KiB |
##############################################################################
##############################################################################
###
### Running command:
###
### /Library/Frameworks/R.framework/Versions/Current/Resources/bin/R CMD build --keep-empty-dirs --no-resave-data trio
###
##############################################################################
##############################################################################
* checking for file ‘trio/DESCRIPTION’ ... OK
* preparing ‘trio’:
* checking DESCRIPTION meta-information ... OK
* installing the package to build vignettes
* creating vignettes ... OK
Warning: ‘inst/doc’ file
‘trio.pdf’
ignored as vignettes have been rebuilt.
Run R CMD build with --no-build-vignettes to prevent rebuilding.
* checking for LF line-endings in source and make files and shell scripts
* checking for empty or unneeded directories
* looking to see if a ‘data/datalist’ file should be added
* building ‘trio_3.21.9.tar.gz’