This page was generated on 2019-04-09 12:00:00 -0400 (Tue, 09 Apr 2019).
| trigger 1.29.0 John D. Storey
 
 
| Snapshot Date: 2019-04-08 17:01:18 -0400 (Mon, 08 Apr 2019) |  | URL: https://git.bioconductor.org/packages/trigger |  | Branch: master |  | Last Commit: e424f2b |  | Last Changed Date: 2018-10-30 11:54:30 -0400 (Tue, 30 Oct 2018) |  | malbec2 | Linux (Ubuntu 18.04.2 LTS) / x86_64 | OK | OK | OK |  |  | 
| tokay2 | Windows Server 2012 R2 Standard / x64 | [ OK ] | OK | OK | OK |  | 
| celaya2 | OS X 10.11.6 El Capitan / x86_64 | OK | OK | OK | OK |  | 
| merida2 | OS X 10.11.6 El Capitan / x86_64 | OK | OK | OK | OK |  | 
##############################################################################
##############################################################################
###
### Running command:
###
###   C:\cygwin\bin\curl.exe -O https://malbec2.bioconductor.org/BBS/3.9/bioc/src/contrib/trigger_1.29.0.tar.gz && rm -rf trigger.buildbin-libdir && mkdir trigger.buildbin-libdir && C:\Users\biocbuild\bbs-3.9-bioc\R\bin\R.exe CMD INSTALL --merge-multiarch --build --library=trigger.buildbin-libdir trigger_1.29.0.tar.gz && C:\Users\biocbuild\bbs-3.9-bioc\R\bin\R.exe CMD INSTALL trigger_1.29.0.zip && rm trigger_1.29.0.tar.gz trigger_1.29.0.zip
###
##############################################################################
##############################################################################
  % Total    % Received % Xferd  Average Speed   Time    Time     Time  Current
                                 Dload  Upload   Total   Spent    Left  Speed
  0     0    0     0    0     0      0      0 --:--:-- --:--:-- --:--:--     0
100 1516k  100 1516k    0     0  20.6M      0 --:--:-- --:--:-- --:--:-- 22.7M
install for i386
* installing *source* package 'trigger' ...
** libs
C:/Rtools/mingw_32/bin/gcc  -I"C:/Users/BIOCBU˜1/BBS-3˜1.9-B/R/include" -DNDEBUG     -I"C:/extsoft/include"     -O3 -Wall  -std=gnu99 -mtune=generic -c trigger.c -o trigger.o
trigger.c: In function 'mergeorder':
trigger.c:25:20: warning: variable 'n3' set but not used [-Wunused-but-set-variable]
 int i1,i2,i3,n1,n2,n3;
                    ^
trigger.c: In function 'sec_link_stat':
trigger.c:81:10: warning: variable 'nct' set but not used [-Wunused-but-set-variable]
 int ntr, nct, i, j;
          ^
trigger.c: In function 'sec_link_stat_x':
trigger.c:153:10: warning: variable 'nct' set but not used [-Wunused-but-set-variable]
 int ntr, nct, i, j, k, nk;
          ^
trigger.c: In function 'condi_indep_stat':
trigger.c:233:10: warning: variable 'nct' set but not used [-Wunused-but-set-variable]
 int ntr, nct, i, j;
          ^
trigger.c: In function 'condi_indep_stat_x':
trigger.c:310:10: warning: variable 'nct' set but not used [-Wunused-but-set-variable]
 int ntr, nct, i, j, k, nk;
          ^
trigger.c: In function 'condi_indep_stat_rx':
trigger.c:393:10: warning: variable 'nct' set but not used [-Wunused-but-set-variable]
 int ntr, nct, i, j, k, nk;
          ^
C:/Rtools/mingw_32/bin/gcc -shared -s -static-libgcc -o trigger.dll tmp.def trigger.o -LC:/extsoft/lib/i386 -LC:/extsoft/lib -LC:/Users/BIOCBU˜1/BBS-3˜1.9-B/R/bin/i386 -lR
installing to C:/Users/biocbuild/bbs-3.9-bioc/meat/trigger.buildbin-libdir/00LOCK-trigger/00new/trigger/libs/i386
** R
** data
** inst
** byte-compile and prepare package for lazy loading
** help
*** installing help indices
  converting help for package 'trigger'
    finding HTML links ... done
    plot                                    html  
    trigger-build                           html  
    trigger-class                           html  
    trigger-eigenR2                         html  
    trigger-export2cross                    html  
    trigger-link                            html  
    trigger-loclink                         html  
    trigger-mlink                           html  
    trigger-net                             html  
    trigger-netPlot2ps                      html  
    trigger-trait                           html  
    yeast                                   html  
** building package indices
** installing vignettes
** testing if installed package can be loaded from temporary location
** testing if installed package can be loaded from final location
** testing if installed package keeps a record of temporary installation path
install for x64
* installing *source* package 'trigger' ...
** libs
C:/Rtools/mingw_64/bin/gcc  -I"C:/Users/BIOCBU˜1/BBS-3˜1.9-B/R/include" -DNDEBUG     -I"C:/extsoft/include"     -O2 -Wall  -std=gnu99 -mtune=generic -c trigger.c -o trigger.o
trigger.c: In function 'mergeorder':
trigger.c:25:20: warning: variable 'n3' set but not used [-Wunused-but-set-variable]
 int i1,i2,i3,n1,n2,n3;
                    ^
trigger.c: In function 'sec_link_stat':
trigger.c:81:10: warning: variable 'nct' set but not used [-Wunused-but-set-variable]
 int ntr, nct, i, j;
          ^
trigger.c: In function 'sec_link_stat_x':
trigger.c:153:10: warning: variable 'nct' set but not used [-Wunused-but-set-variable]
 int ntr, nct, i, j, k, nk;
          ^
trigger.c: In function 'condi_indep_stat':
trigger.c:233:10: warning: variable 'nct' set but not used [-Wunused-but-set-variable]
 int ntr, nct, i, j;
          ^
trigger.c: In function 'condi_indep_stat_x':
trigger.c:310:10: warning: variable 'nct' set but not used [-Wunused-but-set-variable]
 int ntr, nct, i, j, k, nk;
          ^
trigger.c: In function 'condi_indep_stat_rx':
trigger.c:393:10: warning: variable 'nct' set but not used [-Wunused-but-set-variable]
 int ntr, nct, i, j, k, nk;
          ^
C:/Rtools/mingw_64/bin/gcc -shared -s -static-libgcc -o trigger.dll tmp.def trigger.o -LC:/extsoft/lib/x64 -LC:/extsoft/lib -LC:/Users/BIOCBU˜1/BBS-3˜1.9-B/R/bin/x64 -lR
installing to C:/Users/biocbuild/bbs-3.9-bioc/meat/trigger.buildbin-libdir/trigger/libs/x64
** testing if installed package can be loaded
* MD5 sums
packaged installation of 'trigger' as trigger_1.29.0.zip
* DONE (trigger)
* installing to library 'C:/Users/biocbuild/bbs-3.9-bioc/R/library'
package 'trigger' successfully unpacked and MD5 sums checked