| Back to Multiple platform build/check report for BioC 3.9 |
|
This page was generated on 2019-04-09 13:35:06 -0400 (Tue, 09 Apr 2019).
| Package 1636/1703 | Hostname | OS / Arch | INSTALL | BUILD | CHECK | BUILD BIN | ||||||
| trena 1.5.8 Paul Shannon
| malbec2 | Linux (Ubuntu 18.04.2 LTS) / x86_64 | OK | OK | ERROR | |||||||
| tokay2 | Windows Server 2012 R2 Standard / x64 | OK | OK | ERROR | OK | |||||||
| celaya2 | OS X 10.11.6 El Capitan / x86_64 | OK | OK | ERROR | OK | |||||||
| merida2 | OS X 10.11.6 El Capitan / x86_64 | OK | OK | ERROR | [ OK ] |
| Package: trena |
| Version: 1.5.8 |
| Command: rm -rf trena.buildbin-libdir && mkdir trena.buildbin-libdir && /Users/biocbuild/BBS/utils/build-universal.sh trena_1.5.8.tar.gz /Library/Frameworks/R.framework/Versions/Current/Resources/bin/R trena.buildbin-libdir |
| StartedAt: 2019-04-09 06:41:33 -0400 (Tue, 09 Apr 2019) |
| EndedAt: 2019-04-09 06:42:49 -0400 (Tue, 09 Apr 2019) |
| EllapsedTime: 75.7 seconds |
| RetCode: 0 |
| Status: OK |
| PackageFile: trena_1.5.8.tgz |
| PackageFileSize: 1.748 MiB |
##############################################################################
##############################################################################
###
### Running command:
###
### rm -rf trena.buildbin-libdir && mkdir trena.buildbin-libdir && /Users/biocbuild/BBS/utils/build-universal.sh trena_1.5.8.tar.gz /Library/Frameworks/R.framework/Versions/Current/Resources/bin/R trena.buildbin-libdir
###
##############################################################################
##############################################################################
>>>>>>>
>>>>>>> INSTALLATION WITH 'R CMD INSTALL --preclean --no-multiarch --library=trena.buildbin-libdir trena_1.5.8.tar.gz'
>>>>>>>
* installing *source* package ‘trena’ ...
** R
** inst
** byte-compile and prepare package for lazy loading
See system.file("LICENSE", package="MotifDb") for use restrictions.
** help
*** installing help indices
** building package indices
** installing vignettes
** testing if installed package can be loaded
See system.file("LICENSE", package="MotifDb") for use restrictions.
* DONE (trena)