| Back to Multiple platform build/check report for BioC 3.9 |
|
This page was generated on 2019-04-09 12:24:38 -0400 (Tue, 09 Apr 2019).
| Package 1634/1703 | Hostname | OS / Arch | INSTALL | BUILD | CHECK | BUILD BIN | ||||||
| traseR 1.13.0 li chen
| malbec2 | Linux (Ubuntu 18.04.2 LTS) / x86_64 | OK | OK | OK | |||||||
| tokay2 | Windows Server 2012 R2 Standard / x64 | OK | OK | OK | [ OK ] | |||||||
| celaya2 | OS X 10.11.6 El Capitan / x86_64 | OK | OK | OK | OK | |||||||
| merida2 | OS X 10.11.6 El Capitan / x86_64 | OK | OK | OK | OK |
| Package: traseR |
| Version: 1.13.0 |
| Command: rm -rf traseR.buildbin-libdir && mkdir traseR.buildbin-libdir && C:\Users\biocbuild\bbs-3.9-bioc\R\bin\R.exe CMD INSTALL --merge-multiarch --build --library=traseR.buildbin-libdir traseR_1.13.0.tar.gz |
| StartedAt: 2019-04-09 09:08:21 -0400 (Tue, 09 Apr 2019) |
| EndedAt: 2019-04-09 09:09:09 -0400 (Tue, 09 Apr 2019) |
| EllapsedTime: 48.0 seconds |
| RetCode: 0 |
| Status: OK |
| PackageFile: traseR_1.13.0.zip |
| PackageFileSize: 6.285 MiB |
##############################################################################
##############################################################################
###
### Running command:
###
### rm -rf traseR.buildbin-libdir && mkdir traseR.buildbin-libdir && C:\Users\biocbuild\bbs-3.9-bioc\R\bin\R.exe CMD INSTALL --merge-multiarch --build --library=traseR.buildbin-libdir traseR_1.13.0.tar.gz
###
##############################################################################
##############################################################################
install for i386
* installing *source* package 'traseR' ...
** R
** data
** inst
** byte-compile and prepare package for lazy loading
** help
*** installing help indices
converting help for package 'traseR'
finding HTML links ... done
CEU html
Tcell html
plots html
print.traseR html
querys html
taSNP html
taSNPLD html
traseR-package html
traseR html
** building package indices
** installing vignettes
** testing if installed package can be loaded from temporary location
** testing if installed package can be loaded from final location
** testing if installed package keeps a record of temporary installation path
install for x64
* installing *source* package 'traseR' ...
** testing if installed package can be loaded
* MD5 sums
packaged installation of 'traseR' as traseR_1.13.0.zip
* DONE (traseR)