| Back to Multiple platform build/check report for BioC 3.9 |
|
This page was generated on 2019-04-09 11:54:32 -0400 (Tue, 09 Apr 2019).
| Package 1611/1703 | Hostname | OS / Arch | INSTALL | BUILD | CHECK | BUILD BIN | ||||||
| timecourse 1.55.0 Yu Chuan Tai
| malbec2 | Linux (Ubuntu 18.04.2 LTS) / x86_64 | OK | OK | OK | |||||||
| tokay2 | Windows Server 2012 R2 Standard / x64 | OK | OK | OK | [ OK ] | |||||||
| celaya2 | OS X 10.11.6 El Capitan / x86_64 | OK | OK | OK | OK | |||||||
| merida2 | OS X 10.11.6 El Capitan / x86_64 | OK | OK | OK | OK |
| Package: timecourse |
| Version: 1.55.0 |
| Command: rm -rf timecourse.buildbin-libdir && mkdir timecourse.buildbin-libdir && C:\Users\biocbuild\bbs-3.9-bioc\R\bin\R.exe CMD INSTALL --merge-multiarch --build --library=timecourse.buildbin-libdir timecourse_1.55.0.tar.gz |
| StartedAt: 2019-04-09 09:06:47 -0400 (Tue, 09 Apr 2019) |
| EndedAt: 2019-04-09 09:07:18 -0400 (Tue, 09 Apr 2019) |
| EllapsedTime: 31.6 seconds |
| RetCode: 0 |
| Status: OK |
| PackageFile: timecourse_1.55.0.zip |
| PackageFileSize: 862.9 KiB |
##############################################################################
##############################################################################
###
### Running command:
###
### rm -rf timecourse.buildbin-libdir && mkdir timecourse.buildbin-libdir && C:\Users\biocbuild\bbs-3.9-bioc\R\bin\R.exe CMD INSTALL --merge-multiarch --build --library=timecourse.buildbin-libdir timecourse_1.55.0.tar.gz
###
##############################################################################
##############################################################################
install for i386
* installing *source* package 'timecourse' ...
** R
** data
** inst
** byte-compile and prepare package for lazy loading
** help
*** installing help indices
converting help for package 'timecourse'
finding HTML links ... done
abs2ratio html
fruitfly html
marrayTC-class html
matrix.cov html
mb.MANOVA html
mb.long html
ot.helmert html
plotProfile html
univ.func html
** building package indices
** installing vignettes
** testing if installed package can be loaded from temporary location
** testing if installed package can be loaded from final location
** testing if installed package keeps a record of temporary installation path
install for x64
* installing *source* package 'timecourse' ...
** testing if installed package can be loaded
* MD5 sums
packaged installation of 'timecourse' as timecourse_1.55.0.zip
* DONE (timecourse)