| Back to Multiple platform build/check report for BioC 3.9 | 
 | 
This page was generated on 2019-04-09 13:19:58 -0400 (Tue, 09 Apr 2019).
| Package 1644/1703 | Hostname | OS / Arch | INSTALL | BUILD | CHECK | BUILD BIN | ||||||
| tRNAscanImport 1.3.2 Felix GM Ernst 
 | malbec2 | Linux (Ubuntu 18.04.2 LTS) / x86_64 | OK | OK | OK |  | ||||||
| tokay2 | Windows Server 2012 R2 Standard / x64 | OK | OK | OK | OK |  | ||||||
| celaya2 | OS X 10.11.6 El Capitan / x86_64 | OK | OK | OK | [ OK ] |  | ||||||
| merida2 | OS X 10.11.6 El Capitan / x86_64 | OK | OK | OK | OK | 
| Package: tRNAscanImport | 
| Version: 1.3.2 | 
| Command: rm -rf tRNAscanImport.buildbin-libdir && mkdir tRNAscanImport.buildbin-libdir && /Users/biocbuild/BBS/utils/build-universal.sh tRNAscanImport_1.3.2.tar.gz /Library/Frameworks/R.framework/Versions/Current/Resources/bin/R tRNAscanImport.buildbin-libdir | 
| StartedAt: 2019-04-09 07:54:28 -0400 (Tue, 09 Apr 2019) | 
| EndedAt: 2019-04-09 07:55:14 -0400 (Tue, 09 Apr 2019) | 
| EllapsedTime: 45.6 seconds | 
| RetCode: 0 | 
| Status: OK | 
| PackageFile: tRNAscanImport_1.3.2.tgz | 
| PackageFileSize: 1.004 MiB | 
############################################################################## ############################################################################## ### ### Running command: ### ### rm -rf tRNAscanImport.buildbin-libdir && mkdir tRNAscanImport.buildbin-libdir && /Users/biocbuild/BBS/utils/build-universal.sh tRNAscanImport_1.3.2.tar.gz /Library/Frameworks/R.framework/Versions/Current/Resources/bin/R tRNAscanImport.buildbin-libdir ### ############################################################################## ############################################################################## >>>>>>> >>>>>>> INSTALLATION WITH 'R CMD INSTALL --preclean --no-multiarch --library=tRNAscanImport.buildbin-libdir tRNAscanImport_1.3.2.tar.gz' >>>>>>> * installing *source* package ‘tRNAscanImport’ ... ** using staged installation ** R ** inst ** byte-compile and prepare package for lazy loading ** help *** installing help indices ** building package indices ** installing vignettes ** testing if installed package can be loaded from temporary location ** testing if installed package can be loaded from final location ** testing if installed package keeps a record of temporary installation path * DONE (tRNAscanImport)