| Back to Multiple platform build/check report for BioC 3.9 | 
 | 
This page was generated on 2019-04-09 13:37:49 -0400 (Tue, 09 Apr 2019).
| Package 1642/1703 | Hostname | OS / Arch | INSTALL | BUILD | CHECK | BUILD BIN | ||||||
| tRNA 1.1.2 Felix GM Ernst 
 | malbec2 | Linux (Ubuntu 18.04.2 LTS) / x86_64 | OK | OK | OK |  | ||||||
| tokay2 | Windows Server 2012 R2 Standard / x64 | OK | OK | OK | OK |  | ||||||
| celaya2 | OS X 10.11.6 El Capitan / x86_64 | OK | OK | OK | OK |  | ||||||
| merida2 | OS X 10.11.6 El Capitan / x86_64 | OK | OK | OK | [ OK ] | 
| Package: tRNA | 
| Version: 1.1.2 | 
| Command: rm -rf tRNA.buildbin-libdir && mkdir tRNA.buildbin-libdir && /Users/biocbuild/BBS/utils/build-universal.sh tRNA_1.1.2.tar.gz /Library/Frameworks/R.framework/Versions/Current/Resources/bin/R tRNA.buildbin-libdir | 
| StartedAt: 2019-04-09 06:42:00 -0400 (Tue, 09 Apr 2019) | 
| EndedAt: 2019-04-09 06:43:16 -0400 (Tue, 09 Apr 2019) | 
| EllapsedTime: 75.9 seconds | 
| RetCode: 0 | 
| Status: OK | 
| PackageFile: tRNA_1.1.2.tgz | 
| PackageFileSize: 1.565 MiB | 
############################################################################## ############################################################################## ### ### Running command: ### ### rm -rf tRNA.buildbin-libdir && mkdir tRNA.buildbin-libdir && /Users/biocbuild/BBS/utils/build-universal.sh tRNA_1.1.2.tar.gz /Library/Frameworks/R.framework/Versions/Current/Resources/bin/R tRNA.buildbin-libdir ### ############################################################################## ############################################################################## >>>>>>> >>>>>>> INSTALLATION WITH 'R CMD INSTALL --preclean --no-multiarch --library=tRNA.buildbin-libdir tRNA_1.1.2.tar.gz' >>>>>>> * installing *source* package ‘tRNA’ ... ** R ** data *** moving datasets to lazyload DB ** inst ** byte-compile and prepare package for lazy loading ** help *** installing help indices ** building package indices ** installing vignettes ** testing if installed package can be loaded * DONE (tRNA)