| Back to Multiple platform build/check report for BioC 3.9 |
|
This page was generated on 2019-04-09 12:21:12 -0400 (Tue, 09 Apr 2019).
| Package 1591/1703 | Hostname | OS / Arch | INSTALL | BUILD | CHECK | BUILD BIN | ||||||
| systemPipeR 1.17.6 Thomas Girke
| malbec2 | Linux (Ubuntu 18.04.2 LTS) / x86_64 | OK | OK | OK | |||||||
| tokay2 | Windows Server 2012 R2 Standard / x64 | OK | OK | WARNINGS | [ OK ] | |||||||
| celaya2 | OS X 10.11.6 El Capitan / x86_64 | OK | OK | OK | OK | |||||||
| merida2 | OS X 10.11.6 El Capitan / x86_64 | OK | OK | OK | OK |
| Package: systemPipeR |
| Version: 1.17.6 |
| Command: rm -rf systemPipeR.buildbin-libdir && mkdir systemPipeR.buildbin-libdir && C:\Users\biocbuild\bbs-3.9-bioc\R\bin\R.exe CMD INSTALL --merge-multiarch --build --library=systemPipeR.buildbin-libdir systemPipeR_1.17.6.tar.gz |
| StartedAt: 2019-04-09 09:04:30 -0400 (Tue, 09 Apr 2019) |
| EndedAt: 2019-04-09 09:06:50 -0400 (Tue, 09 Apr 2019) |
| EllapsedTime: 140.3 seconds |
| RetCode: 0 |
| Status: OK |
| PackageFile: systemPipeR_1.17.6.zip |
| PackageFileSize: 7.832 MiB |
##############################################################################
##############################################################################
###
### Running command:
###
### rm -rf systemPipeR.buildbin-libdir && mkdir systemPipeR.buildbin-libdir && C:\Users\biocbuild\bbs-3.9-bioc\R\bin\R.exe CMD INSTALL --merge-multiarch --build --library=systemPipeR.buildbin-libdir systemPipeR_1.17.6.tar.gz
###
##############################################################################
##############################################################################
install for i386
* installing *source* package 'systemPipeR' ...
** R
** inst
** byte-compile and prepare package for lazy loading
** help
*** installing help indices
converting help for package 'systemPipeR'
finding HTML links ... done
GOHyperGAll html
INTERSECTset-class html
SYSargs-class html
VENNset-class html
alignStats html
catDB-class html
catmap html
clusterRun html
countRangeset html
featureCoverage html
featuretypeCounts html
filterDEGs html
filterVars html
genFeatures html
getQsubargs html
mergeBamByFactor html
module html
moduleload html
olBarplot html
overLapper html
plotfeatureCoverage html
plotfeaturetypeCounts html
predORF html
preprocessReads html
qsubRun html
readComp html
returnRPKM html
runCommandline html
runDiff html
run_DESeq2 html
run_edgeR html
scaleRanges html
seeFastq html
symLink2bam html
sysargs html
systemArgs html
variantReport html
vennPlot html
writeTargetsRef html
writeTargetsout html
** building package indices
** installing vignettes
** testing if installed package can be loaded from temporary location
** testing if installed package can be loaded from final location
** testing if installed package keeps a record of temporary installation path
install for x64
* installing *source* package 'systemPipeR' ...
** testing if installed package can be loaded
* MD5 sums
packaged installation of 'systemPipeR' as systemPipeR_1.17.6.zip
* DONE (systemPipeR)