| Back to Multiple platform build/check report for BioC 3.9 |
|
This page was generated on 2019-04-09 12:25:14 -0400 (Tue, 09 Apr 2019).
| Package 1572/1703 | Hostname | OS / Arch | INSTALL | BUILD | CHECK | BUILD BIN | ||||||
| subSeq 1.13.1 Andrew J. Bass
| malbec2 | Linux (Ubuntu 18.04.2 LTS) / x86_64 | OK | OK | OK | |||||||
| tokay2 | Windows Server 2012 R2 Standard / x64 | [ OK ] | OK | OK | OK | |||||||
| celaya2 | OS X 10.11.6 El Capitan / x86_64 | OK | OK | OK | OK | |||||||
| merida2 | OS X 10.11.6 El Capitan / x86_64 | OK | OK | OK | OK |
| Package: subSeq |
| Version: 1.13.1 |
| Command: C:\cygwin\bin\curl.exe -O https://malbec2.bioconductor.org/BBS/3.9/bioc/src/contrib/subSeq_1.13.1.tar.gz && rm -rf subSeq.buildbin-libdir && mkdir subSeq.buildbin-libdir && C:\Users\biocbuild\bbs-3.9-bioc\R\bin\R.exe CMD INSTALL --merge-multiarch --build --library=subSeq.buildbin-libdir subSeq_1.13.1.tar.gz && C:\Users\biocbuild\bbs-3.9-bioc\R\bin\R.exe CMD INSTALL subSeq_1.13.1.zip && rm subSeq_1.13.1.tar.gz subSeq_1.13.1.zip |
| StartedAt: 2019-04-08 18:55:09 -0400 (Mon, 08 Apr 2019) |
| EndedAt: 2019-04-08 18:55:52 -0400 (Mon, 08 Apr 2019) |
| EllapsedTime: 43.6 seconds |
| RetCode: 0 |
| Status: OK |
##############################################################################
##############################################################################
###
### Running command:
###
### C:\cygwin\bin\curl.exe -O https://malbec2.bioconductor.org/BBS/3.9/bioc/src/contrib/subSeq_1.13.1.tar.gz && rm -rf subSeq.buildbin-libdir && mkdir subSeq.buildbin-libdir && C:\Users\biocbuild\bbs-3.9-bioc\R\bin\R.exe CMD INSTALL --merge-multiarch --build --library=subSeq.buildbin-libdir subSeq_1.13.1.tar.gz && C:\Users\biocbuild\bbs-3.9-bioc\R\bin\R.exe CMD INSTALL subSeq_1.13.1.zip && rm subSeq_1.13.1.tar.gz subSeq_1.13.1.zip
###
##############################################################################
##############################################################################
% Total % Received % Xferd Average Speed Time Time Time Current
Dload Upload Total Spent Left Speed
0 0 0 0 0 0 0 0 --:--:-- --:--:-- --:--:-- 0
100 2774k 100 2774k 0 0 31.4M 0 --:--:-- --:--:-- --:--:-- 34.3M
install for i386
* installing *source* package 'subSeq' ...
** R
** data
** byte-compile and prepare package for lazy loading
** help
*** installing help indices
converting help for package 'subSeq'
finding HTML links ... done
combineSubsamples html
generateSubsampledMatrix html
getSeed html
hammer html
plot.subsamples html
plot.summary.subsamples html
ss html
subsample html
summary.subsamples html
** building package indices
** installing vignettes
** testing if installed package can be loaded from temporary location
** testing if installed package can be loaded from final location
** testing if installed package keeps a record of temporary installation path
install for x64
* installing *source* package 'subSeq' ...
** testing if installed package can be loaded
* MD5 sums
packaged installation of 'subSeq' as subSeq_1.13.1.zip
* DONE (subSeq)
* installing to library 'C:/Users/biocbuild/bbs-3.9-bioc/R/library'
package 'subSeq' successfully unpacked and MD5 sums checked