| Back to Multiple platform build/check report for BioC 3.9 | 
 | 
This page was generated on 2019-04-09 13:17:01 -0400 (Tue, 09 Apr 2019).
| Package 1565/1703 | Hostname | OS / Arch | INSTALL | BUILD | CHECK | BUILD BIN | ||||||
| statTarget 1.13.7 Hemi Luan 
 | malbec2 | Linux (Ubuntu 18.04.2 LTS) / x86_64 | OK | OK | OK |  | ||||||
| tokay2 | Windows Server 2012 R2 Standard / x64 | OK | OK | OK | OK |  | ||||||
| celaya2 | OS X 10.11.6 El Capitan / x86_64 | OK | OK | OK | [ OK ] |  | ||||||
| merida2 | OS X 10.11.6 El Capitan / x86_64 | OK | OK | OK | OK | 
| Package: statTarget | 
| Version: 1.13.7 | 
| Command: rm -rf statTarget.buildbin-libdir && mkdir statTarget.buildbin-libdir && /Users/biocbuild/BBS/utils/build-universal.sh statTarget_1.13.7.tar.gz /Library/Frameworks/R.framework/Versions/Current/Resources/bin/R statTarget.buildbin-libdir | 
| StartedAt: 2019-04-09 07:50:39 -0400 (Tue, 09 Apr 2019) | 
| EndedAt: 2019-04-09 07:51:20 -0400 (Tue, 09 Apr 2019) | 
| EllapsedTime: 40.9 seconds | 
| RetCode: 0 | 
| Status: OK | 
| PackageFile: statTarget_1.13.7.tgz | 
| PackageFileSize: 2.113 MiB | 
############################################################################## ############################################################################## ### ### Running command: ### ### rm -rf statTarget.buildbin-libdir && mkdir statTarget.buildbin-libdir && /Users/biocbuild/BBS/utils/build-universal.sh statTarget_1.13.7.tar.gz /Library/Frameworks/R.framework/Versions/Current/Resources/bin/R statTarget.buildbin-libdir ### ############################################################################## ############################################################################## >>>>>>> >>>>>>> INSTALLATION WITH 'R CMD INSTALL --preclean --no-multiarch --library=statTarget.buildbin-libdir statTarget_1.13.7.tar.gz' >>>>>>> * installing *source* package ‘statTarget’ ... ** using staged installation ** R ** inst ** byte-compile and prepare package for lazy loading ** help *** installing help indices ** building package indices ** installing vignettes ** testing if installed package can be loaded from temporary location ** testing if installed package can be loaded from final location ** testing if installed package keeps a record of temporary installation path * DONE (statTarget)