| Back to Multiple platform build/check report for BioC 3.9 | 
 | 
This page was generated on 2019-04-09 13:05:02 -0400 (Tue, 09 Apr 2019).
| Package 1561/1703 | Hostname | OS / Arch | INSTALL | BUILD | CHECK | BUILD BIN | ||||||
| staRank 1.25.1 Juliane Siebourg 
 | malbec2 | Linux (Ubuntu 18.04.2 LTS) / x86_64 | OK | OK | OK |  | ||||||
| tokay2 | Windows Server 2012 R2 Standard / x64 | OK | OK | OK | OK |  | ||||||
| celaya2 | OS X 10.11.6 El Capitan / x86_64 | OK | OK | OK | [ OK ] |  | ||||||
| merida2 | OS X 10.11.6 El Capitan / x86_64 | OK | OK | OK | OK | 
| Package: staRank | 
| Version: 1.25.1 | 
| Command: rm -rf staRank.buildbin-libdir && mkdir staRank.buildbin-libdir && /Users/biocbuild/BBS/utils/build-universal.sh staRank_1.25.1.tar.gz /Library/Frameworks/R.framework/Versions/Current/Resources/bin/R staRank.buildbin-libdir | 
| StartedAt: 2019-04-09 07:50:28 -0400 (Tue, 09 Apr 2019) | 
| EndedAt: 2019-04-09 07:51:09 -0400 (Tue, 09 Apr 2019) | 
| EllapsedTime: 41.0 seconds | 
| RetCode: 0 | 
| Status: OK | 
| PackageFile: staRank_1.25.1.tgz | 
| PackageFileSize: 720.1 KiB | 
############################################################################## ############################################################################## ### ### Running command: ### ### rm -rf staRank.buildbin-libdir && mkdir staRank.buildbin-libdir && /Users/biocbuild/BBS/utils/build-universal.sh staRank_1.25.1.tar.gz /Library/Frameworks/R.framework/Versions/Current/Resources/bin/R staRank.buildbin-libdir ### ############################################################################## ############################################################################## >>>>>>> >>>>>>> INSTALLATION WITH 'R CMD INSTALL --preclean --no-multiarch --library=staRank.buildbin-libdir staRank_1.25.1.tar.gz' >>>>>>> * installing *source* package ‘staRank’ ... ** using staged installation ** R ** data ** inst ** byte-compile and prepare package for lazy loading ** help *** installing help indices ** building package indices ** installing vignettes ** testing if installed package can be loaded from temporary location ** testing if installed package can be loaded from final location ** testing if installed package keeps a record of temporary installation path * DONE (staRank)