| Back to Multiple platform build/check report for BioC 3.9 | 
  | 
This page was generated on 2019-04-09 12:20:15 -0400 (Tue, 09 Apr 2019).
| Package 1558/1703 | Hostname | OS / Arch | INSTALL | BUILD | CHECK | BUILD BIN | ||||||
| ssviz 1.17.1 Diana Low 
  | malbec2 | Linux (Ubuntu 18.04.2 LTS) / x86_64 | OK | OK | OK | |||||||
| tokay2 | Windows Server 2012 R2 Standard / x64 | OK | OK | OK | [ OK ] | |||||||
| celaya2 | OS X 10.11.6 El Capitan / x86_64 | OK | OK | OK | OK | |||||||
| merida2 | OS X 10.11.6 El Capitan / x86_64 | OK | OK | OK | OK | 
| Package: ssviz | 
| Version: 1.17.1 | 
| Command: rm -rf ssviz.buildbin-libdir && mkdir ssviz.buildbin-libdir && C:\Users\biocbuild\bbs-3.9-bioc\R\bin\R.exe CMD INSTALL --merge-multiarch --build --library=ssviz.buildbin-libdir ssviz_1.17.1.tar.gz | 
| StartedAt: 2019-04-09 09:02:30 -0400 (Tue, 09 Apr 2019) | 
| EndedAt: 2019-04-09 09:03:20 -0400 (Tue, 09 Apr 2019) | 
| EllapsedTime: 49.9 seconds | 
| RetCode: 0 | 
| Status: OK | 
| PackageFile: ssviz_1.17.1.zip | 
| PackageFileSize: 994.9 KiB | 
##############################################################################
##############################################################################
###
### Running command:
###
###   rm -rf ssviz.buildbin-libdir && mkdir ssviz.buildbin-libdir && C:\Users\biocbuild\bbs-3.9-bioc\R\bin\R.exe CMD INSTALL --merge-multiarch --build --library=ssviz.buildbin-libdir ssviz_1.17.1.tar.gz
###
##############################################################################
##############################################################################
install for i386
* installing *source* package 'ssviz' ...
** R
** data
** inst
** byte-compile and prepare package for lazy loading
** help
*** installing help indices
  converting help for package 'ssviz'
    finding HTML links ... done
    counts                                  html  
    ctrlbam                                 html  
    getCountMatrix-methods                  html  
    getCountMatrix                          html  
    logicalORmissing-class                  html  
    ntfreq-methods                          html  
    ntfreq                                  html  
    pctrlbam                                html  
    pingpong-methods                        html  
    pingpong                                html  
    plotDistro-methods                      html  
    plotDistro                              html  
    plotFreq-methods                        html  
    plotFreq                                html  
    plotPP-methods                          html  
    plotPP                                  html  
    plotRegion-methods                      html  
    plotRegion                              html  
    ptreatbam                               html  
    readBam-methods                         html  
    readBam                                 html  
    ssviz-package                           html  
    treatbam                                html  
** building package indices
** installing vignettes
** testing if installed package can be loaded from temporary location
** testing if installed package can be loaded from final location
** testing if installed package keeps a record of temporary installation path
install for x64
* installing *source* package 'ssviz' ...
** testing if installed package can be loaded
* MD5 sums
packaged installation of 'ssviz' as ssviz_1.17.1.zip
* DONE (ssviz)