| Back to Multiple platform build/check report for BioC 3.9 |
|
This page was generated on 2019-04-09 12:26:09 -0400 (Tue, 09 Apr 2019).
| Package 1554/1703 | Hostname | OS / Arch | INSTALL | BUILD | CHECK | BUILD BIN | ||||||
| sscu 2.13.0 Yu Sun
| malbec2 | Linux (Ubuntu 18.04.2 LTS) / x86_64 | OK | OK | WARNINGS | |||||||
| tokay2 | Windows Server 2012 R2 Standard / x64 | OK | OK | WARNINGS | [ OK ] | |||||||
| celaya2 | OS X 10.11.6 El Capitan / x86_64 | OK | OK | WARNINGS | OK | |||||||
| merida2 | OS X 10.11.6 El Capitan / x86_64 | OK | OK | WARNINGS | OK |
| Package: sscu |
| Version: 2.13.0 |
| Command: rm -rf sscu.buildbin-libdir && mkdir sscu.buildbin-libdir && C:\Users\biocbuild\bbs-3.9-bioc\R\bin\R.exe CMD INSTALL --merge-multiarch --build --library=sscu.buildbin-libdir sscu_2.13.0.tar.gz |
| StartedAt: 2019-04-09 09:02:16 -0400 (Tue, 09 Apr 2019) |
| EndedAt: 2019-04-09 09:03:06 -0400 (Tue, 09 Apr 2019) |
| EllapsedTime: 50.0 seconds |
| RetCode: 0 |
| Status: OK |
| PackageFile: sscu_2.13.0.zip |
| PackageFileSize: 1.34 MiB |
##############################################################################
##############################################################################
###
### Running command:
###
### rm -rf sscu.buildbin-libdir && mkdir sscu.buildbin-libdir && C:\Users\biocbuild\bbs-3.9-bioc\R\bin\R.exe CMD INSTALL --merge-multiarch --build --library=sscu.buildbin-libdir sscu_2.13.0.tar.gz
###
##############################################################################
##############################################################################
install for i386
* installing *source* package 'sscu' ...
** R
** inst
** byte-compile and prepare package for lazy loading
** help
*** installing help indices
converting help for package 'sscu'
finding HTML links ... done
akashi_test html
genomic_gc3 html
finding level-2 HTML links ... done
low_frequency_op html
op_corre_CodonW html
op_corre_NCprime html
op_highly html
op_highly_stats html
s_index html
sscu-package html
** building package indices
** installing vignettes
** testing if installed package can be loaded from temporary location
** testing if installed package can be loaded from final location
** testing if installed package keeps a record of temporary installation path
install for x64
* installing *source* package 'sscu' ...
** testing if installed package can be loaded
* MD5 sums
packaged installation of 'sscu' as sscu_2.13.0.zip
* DONE (sscu)