| Back to Multiple platform build/check report for BioC 3.9 |
|
This page was generated on 2019-04-09 11:54:49 -0400 (Tue, 09 Apr 2019).
| Package 1553/1703 | Hostname | OS / Arch | INSTALL | BUILD | CHECK | BUILD BIN | ||||||
| sscore 1.55.0 Richard Kennedy
| malbec2 | Linux (Ubuntu 18.04.2 LTS) / x86_64 | OK | OK | OK | |||||||
| tokay2 | Windows Server 2012 R2 Standard / x64 | [ OK ] | OK | OK | OK | |||||||
| celaya2 | OS X 10.11.6 El Capitan / x86_64 | OK | OK | OK | OK | |||||||
| merida2 | OS X 10.11.6 El Capitan / x86_64 | OK | OK | OK | OK |
| Package: sscore |
| Version: 1.55.0 |
| Command: C:\cygwin\bin\curl.exe -O https://malbec2.bioconductor.org/BBS/3.9/bioc/src/contrib/sscore_1.55.0.tar.gz && rm -rf sscore.buildbin-libdir && mkdir sscore.buildbin-libdir && C:\Users\biocbuild\bbs-3.9-bioc\R\bin\R.exe CMD INSTALL --merge-multiarch --build --library=sscore.buildbin-libdir sscore_1.55.0.tar.gz && C:\Users\biocbuild\bbs-3.9-bioc\R\bin\R.exe CMD INSTALL sscore_1.55.0.zip && rm sscore_1.55.0.tar.gz sscore_1.55.0.zip |
| StartedAt: 2019-04-08 19:16:15 -0400 (Mon, 08 Apr 2019) |
| EndedAt: 2019-04-08 19:16:33 -0400 (Mon, 08 Apr 2019) |
| EllapsedTime: 17.5 seconds |
| RetCode: 0 |
| Status: OK |
##############################################################################
##############################################################################
###
### Running command:
###
### C:\cygwin\bin\curl.exe -O https://malbec2.bioconductor.org/BBS/3.9/bioc/src/contrib/sscore_1.55.0.tar.gz && rm -rf sscore.buildbin-libdir && mkdir sscore.buildbin-libdir && C:\Users\biocbuild\bbs-3.9-bioc\R\bin\R.exe CMD INSTALL --merge-multiarch --build --library=sscore.buildbin-libdir sscore_1.55.0.tar.gz && C:\Users\biocbuild\bbs-3.9-bioc\R\bin\R.exe CMD INSTALL sscore_1.55.0.zip && rm sscore_1.55.0.tar.gz sscore_1.55.0.zip
###
##############################################################################
##############################################################################
% Total % Received % Xferd Average Speed Time Time Time Current
Dload Upload Total Spent Left Speed
0 0 0 0 0 0 0 0 --:--:-- --:--:-- --:--:-- 0
100 211k 100 211k 0 0 2288k 0 --:--:-- --:--:-- --:--:-- 2454k
install for i386
* installing *source* package 'sscore' ...
** R
** byte-compile and prepare package for lazy loading
** help
*** installing help indices
converting help for package 'sscore'
finding HTML links ... done
OneStepBiweightAlgorithm html
SScore html
SScoreBatch html
computeAffxRawQ html
computeAffxSFandSDT html
computeOutlier html
computeRawQ html
computeSFandSDT html
computeZoneIInfo html
computeZonenoise html
trimMean html
** building package indices
** installing vignettes
** testing if installed package can be loaded from temporary location
** testing if installed package can be loaded from final location
** testing if installed package keeps a record of temporary installation path
install for x64
* installing *source* package 'sscore' ...
** testing if installed package can be loaded
* MD5 sums
packaged installation of 'sscore' as sscore_1.55.0.zip
* DONE (sscore)
* installing to library 'C:/Users/biocbuild/bbs-3.9-bioc/R/library'
package 'sscore' successfully unpacked and MD5 sums checked