| Back to Multiple platform build/check report for BioC 3.9 | 
 | 
This page was generated on 2019-04-09 13:13:03 -0400 (Tue, 09 Apr 2019).
| Package 1531/1703 | Hostname | OS / Arch | INSTALL | BUILD | CHECK | BUILD BIN | ||||||
| specL 1.17.3 Christian Panse 
 | malbec2 | Linux (Ubuntu 18.04.2 LTS) / x86_64 | OK | OK | OK |  | ||||||
| tokay2 | Windows Server 2012 R2 Standard / x64 | OK | ERROR | skipped | skipped | |||||||
| celaya2 | OS X 10.11.6 El Capitan / x86_64 | OK | OK | OK | [ OK ] |  | ||||||
| merida2 | OS X 10.11.6 El Capitan / x86_64 | OK | OK | OK | OK | 
| Package: specL | 
| Version: 1.17.3 | 
| Command: rm -rf specL.buildbin-libdir && mkdir specL.buildbin-libdir && /Users/biocbuild/BBS/utils/build-universal.sh specL_1.17.3.tar.gz /Library/Frameworks/R.framework/Versions/Current/Resources/bin/R specL.buildbin-libdir | 
| StartedAt: 2019-04-09 07:49:07 -0400 (Tue, 09 Apr 2019) | 
| EndedAt: 2019-04-09 07:49:35 -0400 (Tue, 09 Apr 2019) | 
| EllapsedTime: 28.1 seconds | 
| RetCode: 0 | 
| Status: OK | 
| PackageFile: specL_1.17.3.tgz | 
| PackageFileSize: 3.831 MiB | 
############################################################################## ############################################################################## ### ### Running command: ### ### rm -rf specL.buildbin-libdir && mkdir specL.buildbin-libdir && /Users/biocbuild/BBS/utils/build-universal.sh specL_1.17.3.tar.gz /Library/Frameworks/R.framework/Versions/Current/Resources/bin/R specL.buildbin-libdir ### ############################################################################## ############################################################################## >>>>>>> >>>>>>> INSTALLATION WITH 'R CMD INSTALL --preclean --no-multiarch --library=specL.buildbin-libdir specL_1.17.3.tar.gz' >>>>>>> * installing *source* package ‘specL’ ... ** using staged installation ** R ** data *** moving datasets to lazyload DB ** inst ** byte-compile and prepare package for lazy loading ** help *** installing help indices ** building package indices ** installing vignettes ** testing if installed package can be loaded from temporary location ** testing if installed package can be loaded from final location ** testing if installed package keeps a record of temporary installation path * DONE (specL)