| Back to Multiple platform build/check report for BioC 3.9 |
|
This page was generated on 2019-04-09 12:28:22 -0400 (Tue, 09 Apr 2019).
| Package 1527/1703 | Hostname | OS / Arch | INSTALL | BUILD | CHECK | BUILD BIN | ||||||
| sparseDOSSA 1.7.1 Boyu Ren
| malbec2 | Linux (Ubuntu 18.04.2 LTS) / x86_64 | OK | OK | OK | |||||||
| tokay2 | Windows Server 2012 R2 Standard / x64 | [ OK ] | OK | OK | OK | |||||||
| celaya2 | OS X 10.11.6 El Capitan / x86_64 | OK | OK | OK | OK | |||||||
| merida2 | OS X 10.11.6 El Capitan / x86_64 | OK | OK | OK | OK |
| Package: sparseDOSSA |
| Version: 1.7.1 |
| Command: C:\cygwin\bin\curl.exe -O https://malbec2.bioconductor.org/BBS/3.9/bioc/src/contrib/sparseDOSSA_1.7.1.tar.gz && rm -rf sparseDOSSA.buildbin-libdir && mkdir sparseDOSSA.buildbin-libdir && C:\Users\biocbuild\bbs-3.9-bioc\R\bin\R.exe CMD INSTALL --merge-multiarch --build --library=sparseDOSSA.buildbin-libdir sparseDOSSA_1.7.1.tar.gz && C:\Users\biocbuild\bbs-3.9-bioc\R\bin\R.exe CMD INSTALL sparseDOSSA_1.7.1.zip && rm sparseDOSSA_1.7.1.tar.gz sparseDOSSA_1.7.1.zip |
| StartedAt: 2019-04-08 20:37:29 -0400 (Mon, 08 Apr 2019) |
| EndedAt: 2019-04-08 20:37:57 -0400 (Mon, 08 Apr 2019) |
| EllapsedTime: 28.8 seconds |
| RetCode: 0 |
| Status: OK |
##############################################################################
##############################################################################
###
### Running command:
###
### C:\cygwin\bin\curl.exe -O https://malbec2.bioconductor.org/BBS/3.9/bioc/src/contrib/sparseDOSSA_1.7.1.tar.gz && rm -rf sparseDOSSA.buildbin-libdir && mkdir sparseDOSSA.buildbin-libdir && C:\Users\biocbuild\bbs-3.9-bioc\R\bin\R.exe CMD INSTALL --merge-multiarch --build --library=sparseDOSSA.buildbin-libdir sparseDOSSA_1.7.1.tar.gz && C:\Users\biocbuild\bbs-3.9-bioc\R\bin\R.exe CMD INSTALL sparseDOSSA_1.7.1.zip && rm sparseDOSSA_1.7.1.tar.gz sparseDOSSA_1.7.1.zip
###
##############################################################################
##############################################################################
% Total % Received % Xferd Average Speed Time Time Time Current
Dload Upload Total Spent Left Speed
0 0 0 0 0 0 0 0 --:--:-- --:--:-- --:--:-- 0
100 571k 100 571k 0 0 6530k 0 --:--:-- --:--:-- --:--:-- 7137k
install for i386
* installing *source* package 'sparseDOSSA' ...
** R
** inst
** byte-compile and prepare package for lazy loading
** help
*** installing help indices
converting help for package 'sparseDOSSA'
finding HTML links ... done
sparseDOSSA html
** building package indices
** installing vignettes
** testing if installed package can be loaded from temporary location
** testing if installed package can be loaded from final location
** testing if installed package keeps a record of temporary installation path
install for x64
* installing *source* package 'sparseDOSSA' ...
** testing if installed package can be loaded
* MD5 sums
packaged installation of 'sparseDOSSA' as sparseDOSSA_1.7.1.zip
* DONE (sparseDOSSA)
* installing to library 'C:/Users/biocbuild/bbs-3.9-bioc/R/library'
package 'sparseDOSSA' successfully unpacked and MD5 sums checked