| Back to Multiple platform build/check report for BioC 3.9 |
|
This page was generated on 2019-04-09 12:39:05 -0400 (Tue, 09 Apr 2019).
| Package 1503/1703 | Hostname | OS / Arch | INSTALL | BUILD | CHECK | BUILD BIN | ||||||
| singscore 1.3.4 Dharmesh D. Bhuva
| malbec2 | Linux (Ubuntu 18.04.2 LTS) / x86_64 | OK | OK | OK | |||||||
| tokay2 | Windows Server 2012 R2 Standard / x64 | OK | OK | OK | [ OK ] | |||||||
| celaya2 | OS X 10.11.6 El Capitan / x86_64 | OK | OK | OK | OK | |||||||
| merida2 | OS X 10.11.6 El Capitan / x86_64 | OK | OK | OK | OK |
| Package: singscore |
| Version: 1.3.4 |
| Command: rm -rf singscore.buildbin-libdir && mkdir singscore.buildbin-libdir && C:\Users\biocbuild\bbs-3.9-bioc\R\bin\R.exe CMD INSTALL --merge-multiarch --build --library=singscore.buildbin-libdir singscore_1.3.4.tar.gz |
| StartedAt: 2019-04-09 08:59:19 -0400 (Tue, 09 Apr 2019) |
| EndedAt: 2019-04-09 09:00:01 -0400 (Tue, 09 Apr 2019) |
| EllapsedTime: 42.0 seconds |
| RetCode: 0 |
| Status: OK |
| PackageFile: singscore_1.3.4.zip |
| PackageFileSize: 2.747 MiB |
##############################################################################
##############################################################################
###
### Running command:
###
### rm -rf singscore.buildbin-libdir && mkdir singscore.buildbin-libdir && C:\Users\biocbuild\bbs-3.9-bioc\R\bin\R.exe CMD INSTALL --merge-multiarch --build --library=singscore.buildbin-libdir singscore_1.3.4.tar.gz
###
##############################################################################
##############################################################################
install for i386
* installing *source* package 'singscore' ...
It is recommended to use 'given' instead of 'middle'.
** R
** data
*** moving datasets to lazyload DB
** inst
** byte-compile and prepare package for lazy loading
** help
*** installing help indices
converting help for package 'singscore'
finding HTML links ... done
generateNull html
generateNull_intl html
getPvals html
multiScore html
finding level-2 HTML links ... done
plotDispersion html
plotNull html
plotRankDensity html
plotRankDensity_intl html
plotScoreLandscape html
projectScoreLandscape html
rankExpr html
rankGenes html
scoredf_ccle_epi html
scoredf_ccle_mes html
scoredf_tcga_epi html
scoredf_tcga_mes html
simpleScore html
singscore html
tgfb_expr_10_se html
tgfb_gs_dn html
tgfb_gs_up html
toy_expr_se html
toy_gs_dn html
toy_gs_up html
*** copying figures
** building package indices
** installing vignettes
** testing if installed package can be loaded from temporary location
** testing if installed package can be loaded from final location
** testing if installed package keeps a record of temporary installation path
install for x64
* installing *source* package 'singscore' ...
** testing if installed package can be loaded
* MD5 sums
packaged installation of 'singscore' as singscore_1.3.4.zip
* DONE (singscore)