| Back to Multiple platform build/check report for BioC 3.9 | 
 | 
This page was generated on 2019-04-09 13:36:54 -0400 (Tue, 09 Apr 2019).
| Package 1502/1703 | Hostname | OS / Arch | INSTALL | BUILD | CHECK | BUILD BIN | ||||||
| singleCellTK 1.3.7 David Jenkins 
 | malbec2 | Linux (Ubuntu 18.04.2 LTS) / x86_64 | OK | OK | OK |  | ||||||
| tokay2 | Windows Server 2012 R2 Standard / x64 | OK | OK | OK | OK |  | ||||||
| celaya2 | OS X 10.11.6 El Capitan / x86_64 | OK | OK | OK | OK |  | ||||||
| merida2 | OS X 10.11.6 El Capitan / x86_64 | OK | OK | OK | [ OK ] | 
| Package: singleCellTK | 
| Version: 1.3.7 | 
| Command: rm -rf singleCellTK.buildbin-libdir && mkdir singleCellTK.buildbin-libdir && /Users/biocbuild/BBS/utils/build-universal.sh singleCellTK_1.3.7.tar.gz /Library/Frameworks/R.framework/Versions/Current/Resources/bin/R singleCellTK.buildbin-libdir | 
| StartedAt: 2019-04-09 06:31:18 -0400 (Tue, 09 Apr 2019) | 
| EndedAt: 2019-04-09 06:32:35 -0400 (Tue, 09 Apr 2019) | 
| EllapsedTime: 76.4 seconds | 
| RetCode: 0 | 
| Status: OK | 
| PackageFile: singleCellTK_1.3.7.tgz | 
| PackageFileSize: 4.225 MiB | 
############################################################################## ############################################################################## ### ### Running command: ### ### rm -rf singleCellTK.buildbin-libdir && mkdir singleCellTK.buildbin-libdir && /Users/biocbuild/BBS/utils/build-universal.sh singleCellTK_1.3.7.tar.gz /Library/Frameworks/R.framework/Versions/Current/Resources/bin/R singleCellTK.buildbin-libdir ### ############################################################################## ############################################################################## >>>>>>> >>>>>>> INSTALLATION WITH 'R CMD INSTALL --preclean --no-multiarch --library=singleCellTK.buildbin-libdir singleCellTK_1.3.7.tar.gz' >>>>>>> * installing *source* package ‘singleCellTK’ ... ** R ** data *** moving datasets to lazyload DB ** inst ** byte-compile and prepare package for lazy loading ** help *** installing help indices ** building package indices ** installing vignettes ** testing if installed package can be loaded * DONE (singleCellTK)