| Back to Multiple platform build/check report for BioC 3.9 |
|
This page was generated on 2019-04-09 12:21:16 -0400 (Tue, 09 Apr 2019).
| Package 1499/1703 | Hostname | OS / Arch | INSTALL | BUILD | CHECK | BUILD BIN | ||||||
| simulatorZ 1.17.0 Yuqing Zhang
| malbec2 | Linux (Ubuntu 18.04.2 LTS) / x86_64 | OK | OK | OK | |||||||
| tokay2 | Windows Server 2012 R2 Standard / x64 | OK | OK | OK | [ OK ] | |||||||
| celaya2 | OS X 10.11.6 El Capitan / x86_64 | OK | OK | WARNINGS | OK | |||||||
| merida2 | OS X 10.11.6 El Capitan / x86_64 | OK | OK | WARNINGS | OK |
| Package: simulatorZ |
| Version: 1.17.0 |
| Command: rm -rf simulatorZ.buildbin-libdir && mkdir simulatorZ.buildbin-libdir && C:\Users\biocbuild\bbs-3.9-bioc\R\bin\R.exe CMD INSTALL --merge-multiarch --build --library=simulatorZ.buildbin-libdir simulatorZ_1.17.0.tar.gz |
| StartedAt: 2019-04-09 08:59:04 -0400 (Tue, 09 Apr 2019) |
| EndedAt: 2019-04-09 08:59:46 -0400 (Tue, 09 Apr 2019) |
| EllapsedTime: 42.0 seconds |
| RetCode: 0 |
| Status: OK |
| PackageFile: simulatorZ_1.17.0.zip |
| PackageFileSize: 432 KiB |
##############################################################################
##############################################################################
###
### Running command:
###
### rm -rf simulatorZ.buildbin-libdir && mkdir simulatorZ.buildbin-libdir && C:\Users\biocbuild\bbs-3.9-bioc\R\bin\R.exe CMD INSTALL --merge-multiarch --build --library=simulatorZ.buildbin-libdir simulatorZ_1.17.0.tar.gz
###
##############################################################################
##############################################################################
install for i386
* installing *source* package 'simulatorZ' ...
** libs
C:/Rtools/mingw_32/bin/g++ -I"C:/Users/BIOCBU˜1/BBS-3˜1.9-B/R/include" -DNDEBUG -I"C:/extsoft/include" -O2 -Wall -mtune=generic -c coxformatrices.cpp -o coxformatrices.o
C:/Rtools/mingw_32/bin/g++ -shared -s -static-libgcc -o simulatorZ.dll tmp.def coxformatrices.o -LC:/extsoft/lib/i386 -LC:/extsoft/lib -LC:/Users/BIOCBU˜1/BBS-3˜1.9-B/R/bin/i386 -lR
installing to C:/Users/biocbuild/bbs-3.9-bioc/meat/simulatorZ.buildbin-libdir/00LOCK-simulatorZ/00new/simulatorZ/libs/i386
** R
** inst
** byte-compile and prepare package for lazy loading
** help
*** installing help indices
converting help for package 'simulatorZ'
finding HTML links ... done
cvSubsets html
funCV html
geneFilter html
getTrueModel html
masomenos html
plusMinus html
rowCoxTests html
simBootstrap html
simData html
simTime html
zmatrix html
** building package indices
** installing vignettes
** testing if installed package can be loaded from temporary location
** testing if installed package can be loaded from final location
** testing if installed package keeps a record of temporary installation path
install for x64
* installing *source* package 'simulatorZ' ...
** libs
C:/Rtools/mingw_64/bin/g++ -I"C:/Users/BIOCBU˜1/BBS-3˜1.9-B/R/include" -DNDEBUG -I"C:/extsoft/include" -O2 -Wall -mtune=generic -c coxformatrices.cpp -o coxformatrices.o
C:/Rtools/mingw_64/bin/g++ -shared -s -static-libgcc -o simulatorZ.dll tmp.def coxformatrices.o -LC:/extsoft/lib/x64 -LC:/extsoft/lib -LC:/Users/BIOCBU˜1/BBS-3˜1.9-B/R/bin/x64 -lR
installing to C:/Users/biocbuild/bbs-3.9-bioc/meat/simulatorZ.buildbin-libdir/simulatorZ/libs/x64
** testing if installed package can be loaded
* MD5 sums
packaged installation of 'simulatorZ' as simulatorZ_1.17.0.zip
* DONE (simulatorZ)