| Back to Multiple platform build/check report for BioC 3.9 | 
 | 
This page was generated on 2019-04-09 13:22:23 -0400 (Tue, 09 Apr 2019).
| Package 1486/1703 | Hostname | OS / Arch | INSTALL | BUILD | CHECK | BUILD BIN | ||||||
| siggenes 1.57.4 Holger Schwender 
 | malbec2 | Linux (Ubuntu 18.04.2 LTS) / x86_64 | OK | OK | OK |  | ||||||
| tokay2 | Windows Server 2012 R2 Standard / x64 | OK | OK | OK | OK |  | ||||||
| celaya2 | OS X 10.11.6 El Capitan / x86_64 | OK | OK | OK | OK |  | ||||||
| merida2 | OS X 10.11.6 El Capitan / x86_64 | OK | [ OK ] | OK | OK | 
| Package: siggenes | 
| Version: 1.57.4 | 
| Command: /Library/Frameworks/R.framework/Versions/Current/Resources/bin/R CMD build --keep-empty-dirs --no-resave-data siggenes | 
| StartedAt: 2019-04-08 19:36:30 -0400 (Mon, 08 Apr 2019) | 
| EndedAt: 2019-04-08 19:37:13 -0400 (Mon, 08 Apr 2019) | 
| EllapsedTime: 42.2 seconds | 
| RetCode: 0 | 
| Status: OK | 
| PackageFile: siggenes_1.57.4.tar.gz | 
| PackageFileSize: 589.1 KiB | 
##############################################################################
##############################################################################
###
### Running command:
###
###   /Library/Frameworks/R.framework/Versions/Current/Resources/bin/R CMD build --keep-empty-dirs --no-resave-data siggenes
###
##############################################################################
##############################################################################
* checking for file ‘siggenes/DESCRIPTION’ ... OK
* preparing ‘siggenes’:
* checking DESCRIPTION meta-information ... OK
* installing the package to build vignettes
* creating vignettes ... OK
Warning: ‘inst/doc’ file
    ‘siggenes.pdf’
  ignored as vignettes have been rebuilt.
  Run R CMD build with --no-build-vignettes to prevent rebuilding.
* checking for LF line-endings in source and make files and shell scripts
* checking for empty or unneeded directories
* building ‘siggenes_1.57.4.tar.gz’