| Back to Multiple platform build/check report for BioC 3.9 |
|
This page was generated on 2019-04-09 12:00:05 -0400 (Tue, 09 Apr 2019).
| Package 1482/1703 | Hostname | OS / Arch | INSTALL | BUILD | CHECK | BUILD BIN | ||||||
| sigaR 1.31.0 Wessel N. van Wieringen
| malbec2 | Linux (Ubuntu 18.04.2 LTS) / x86_64 | OK | OK | OK | |||||||
| tokay2 | Windows Server 2012 R2 Standard / x64 | OK | OK | OK | [ OK ] | |||||||
| celaya2 | OS X 10.11.6 El Capitan / x86_64 | OK | OK | OK | OK | |||||||
| merida2 | OS X 10.11.6 El Capitan / x86_64 | OK | OK | OK | OK |
| Package: sigaR |
| Version: 1.31.0 |
| Command: rm -rf sigaR.buildbin-libdir && mkdir sigaR.buildbin-libdir && C:\Users\biocbuild\bbs-3.9-bioc\R\bin\R.exe CMD INSTALL --merge-multiarch --build --library=sigaR.buildbin-libdir sigaR_1.31.0.tar.gz |
| StartedAt: 2019-04-09 08:58:00 -0400 (Tue, 09 Apr 2019) |
| EndedAt: 2019-04-09 08:58:26 -0400 (Tue, 09 Apr 2019) |
| EllapsedTime: 26.4 seconds |
| RetCode: 0 |
| Status: OK |
| PackageFile: sigaR_1.31.0.zip |
| PackageFileSize: 872.1 KiB |
##############################################################################
##############################################################################
###
### Running command:
###
### rm -rf sigaR.buildbin-libdir && mkdir sigaR.buildbin-libdir && C:\Users\biocbuild\bbs-3.9-bioc\R\bin\R.exe CMD INSTALL --merge-multiarch --build --library=sigaR.buildbin-libdir sigaR_1.31.0.tar.gz
###
##############################################################################
##############################################################################
install for i386
* installing *source* package 'sigaR' ...
** R
** data
** inst
** byte-compile and prepare package for lazy loading
** help
*** installing help indices
converting help for package 'sigaR'
finding HTML links ... done
CNGEheatmaps html
ExpressionSet2order html
finding level-2 HTML links ... done
ExpressionSet2subset html
ExpressionSet2weightedSubset html
RCMestimation html
RCMrandom-method html
RCMrandom html
RCMtest html
cghCall2cghSeg html
cghCall2maximumSubset html
cghCall2order html
cghCall2subset html
cghCall2weightedSubset html
cghSeg2order html
cghSeg2subset html
cghSeg2weightedSubset html
cisEffectPlot html
cisEffectTable html
cisEffectTest html
cisEffectTune html
cisTest-class html
entTest-class html
entropyTest html
expandMatching2singleIDs html
getSegFeatures html
hdEntropy html
hdMI html
matchAnn2Ann html
matchCGHcall2ExpressionSet html
merge2ExpressionSets html
merge2cghCalls html
miTest-class html
mutInfTest html
nBreakpoints html
pathway1sample html
pathway2sample html
pathwayFit-class html
pathwayPlot html
pollackCN16 html
pollackGE16 html
profilesPlot html
rcmFit-class html
rcmTest-class html
sigaR-package html
splitMatchingAtBreakpoints html
summary-method html
uniqGenomicInfo html
z.RCMloss-method html
** building package indices
** installing vignettes
** testing if installed package can be loaded from temporary location
** testing if installed package can be loaded from final location
** testing if installed package keeps a record of temporary installation path
install for x64
* installing *source* package 'sigaR' ...
** testing if installed package can be loaded
* MD5 sums
packaged installation of 'sigaR' as sigaR_1.31.0.zip
* DONE (sigaR)