| Back to Multiple platform build/check report for BioC 3.9 |
|
This page was generated on 2019-04-09 11:55:07 -0400 (Tue, 09 Apr 2019).
| Package 1490/1703 | Hostname | OS / Arch | INSTALL | BUILD | CHECK | BUILD BIN | ||||||
| sigPathway 1.51.0 Weil Lai
| malbec2 | Linux (Ubuntu 18.04.2 LTS) / x86_64 | OK | OK | OK | |||||||
| tokay2 | Windows Server 2012 R2 Standard / x64 | OK | OK | OK | [ OK ] | |||||||
| celaya2 | OS X 10.11.6 El Capitan / x86_64 | OK | OK | OK | OK | |||||||
| merida2 | OS X 10.11.6 El Capitan / x86_64 | OK | OK | OK | OK |
| Package: sigPathway |
| Version: 1.51.0 |
| Command: rm -rf sigPathway.buildbin-libdir && mkdir sigPathway.buildbin-libdir && C:\Users\biocbuild\bbs-3.9-bioc\R\bin\R.exe CMD INSTALL --merge-multiarch --build --library=sigPathway.buildbin-libdir sigPathway_1.51.0.tar.gz |
| StartedAt: 2019-04-09 08:58:30 -0400 (Tue, 09 Apr 2019) |
| EndedAt: 2019-04-09 08:59:19 -0400 (Tue, 09 Apr 2019) |
| EllapsedTime: 49.2 seconds |
| RetCode: 0 |
| Status: OK |
| PackageFile: sigPathway_1.51.0.zip |
| PackageFileSize: 755.4 KiB |
##############################################################################
##############################################################################
###
### Running command:
###
### rm -rf sigPathway.buildbin-libdir && mkdir sigPathway.buildbin-libdir && C:\Users\biocbuild\bbs-3.9-bioc\R\bin\R.exe CMD INSTALL --merge-multiarch --build --library=sigPathway.buildbin-libdir sigPathway_1.51.0.tar.gz
###
##############################################################################
##############################################################################
install for i386
* installing *source* package 'sigPathway' ...
** libs
C:/Rtools/mingw_32/bin/gcc -I"C:/Users/BIOCBU˜1/BBS-3˜1.9-B/R/include" -DNDEBUG -I"C:/extsoft/include" -O3 -Wall -std=gnu99 -mtune=generic -c calc_gene_set_internal.c -o calc_gene_set_internal.o
C:/Rtools/mingw_32/bin/gcc -I"C:/Users/BIOCBU˜1/BBS-3˜1.9-B/R/include" -DNDEBUG -I"C:/extsoft/include" -O3 -Wall -std=gnu99 -mtune=generic -c calc_gene_set_stat.c -o calc_gene_set_stat.o
C:/Rtools/mingw_32/bin/gcc -I"C:/Users/BIOCBU˜1/BBS-3˜1.9-B/R/include" -DNDEBUG -I"C:/extsoft/include" -O3 -Wall -std=gnu99 -mtune=generic -c calc_probe_stat.c -o calc_probe_stat.o
C:/Rtools/mingw_32/bin/gcc -I"C:/Users/BIOCBU˜1/BBS-3˜1.9-B/R/include" -DNDEBUG -I"C:/extsoft/include" -O3 -Wall -std=gnu99 -mtune=generic -c calc_weights.c -o calc_weights.o
C:/Rtools/mingw_32/bin/gcc -I"C:/Users/BIOCBU˜1/BBS-3˜1.9-B/R/include" -DNDEBUG -I"C:/extsoft/include" -O3 -Wall -std=gnu99 -mtune=generic -c matrix_fn.c -o matrix_fn.o
C:/Rtools/mingw_32/bin/gcc -I"C:/Users/BIOCBU˜1/BBS-3˜1.9-B/R/include" -DNDEBUG -I"C:/extsoft/include" -O3 -Wall -std=gnu99 -mtune=generic -c permute.c -o permute.o
C:/Rtools/mingw_32/bin/gcc -I"C:/Users/BIOCBU˜1/BBS-3˜1.9-B/R/include" -DNDEBUG -I"C:/extsoft/include" -O3 -Wall -std=gnu99 -mtune=generic -c shuffle.c -o shuffle.o
C:/Rtools/mingw_32/bin/gcc -I"C:/Users/BIOCBU˜1/BBS-3˜1.9-B/R/include" -DNDEBUG -I"C:/extsoft/include" -O3 -Wall -std=gnu99 -mtune=generic -c sigPathway.c -o sigPathway.o
C:/Rtools/mingw_32/bin/gcc -shared -s -static-libgcc -o sigPathway.dll tmp.def calc_gene_set_internal.o calc_gene_set_stat.o calc_probe_stat.o calc_weights.o matrix_fn.o permute.o shuffle.o sigPathway.o -LC:/Users/BIOCBU˜1/BBS-3˜1.9-B/R/bin/i386 -lRlapack -LC:/Users/BIOCBU˜1/BBS-3˜1.9-B/R/bin/i386 -lRblas -lgfortran -lm -lquadmath -LC:/extsoft/lib/i386 -LC:/extsoft/lib -LC:/Users/BIOCBU˜1/BBS-3˜1.9-B/R/bin/i386 -lR
installing to C:/Users/biocbuild/bbs-3.9-bioc/meat/sigPathway.buildbin-libdir/00LOCK-sigPathway/00new/sigPathway/libs/i386
** R
** data
** inst
** byte-compile and prepare package for lazy loading
** help
*** installing help indices
converting help for package 'sigPathway'
finding HTML links ... done
MuscleExample html
calcTNullFast html
calcTStatFast html
calculate.GSEA html
calculate.NGSk html
calculatePathwayStatistics html
estimateNumPerm html
getPathwayStatistics.NGSk html
getPathwayStatistics html
importGeneSets html
rankPathways.NGSk html
rankPathways html
runSigPathway html
selectGeneSets html
writeSigPathway html
** building package indices
** installing vignettes
** testing if installed package can be loaded from temporary location
** testing if installed package can be loaded from final location
** testing if installed package keeps a record of temporary installation path
install for x64
* installing *source* package 'sigPathway' ...
** libs
C:/Rtools/mingw_64/bin/gcc -I"C:/Users/BIOCBU˜1/BBS-3˜1.9-B/R/include" -DNDEBUG -I"C:/extsoft/include" -O2 -Wall -std=gnu99 -mtune=generic -c calc_gene_set_internal.c -o calc_gene_set_internal.o
C:/Rtools/mingw_64/bin/gcc -I"C:/Users/BIOCBU˜1/BBS-3˜1.9-B/R/include" -DNDEBUG -I"C:/extsoft/include" -O2 -Wall -std=gnu99 -mtune=generic -c calc_gene_set_stat.c -o calc_gene_set_stat.o
C:/Rtools/mingw_64/bin/gcc -I"C:/Users/BIOCBU˜1/BBS-3˜1.9-B/R/include" -DNDEBUG -I"C:/extsoft/include" -O2 -Wall -std=gnu99 -mtune=generic -c calc_probe_stat.c -o calc_probe_stat.o
C:/Rtools/mingw_64/bin/gcc -I"C:/Users/BIOCBU˜1/BBS-3˜1.9-B/R/include" -DNDEBUG -I"C:/extsoft/include" -O2 -Wall -std=gnu99 -mtune=generic -c calc_weights.c -o calc_weights.o
C:/Rtools/mingw_64/bin/gcc -I"C:/Users/BIOCBU˜1/BBS-3˜1.9-B/R/include" -DNDEBUG -I"C:/extsoft/include" -O2 -Wall -std=gnu99 -mtune=generic -c matrix_fn.c -o matrix_fn.o
C:/Rtools/mingw_64/bin/gcc -I"C:/Users/BIOCBU˜1/BBS-3˜1.9-B/R/include" -DNDEBUG -I"C:/extsoft/include" -O2 -Wall -std=gnu99 -mtune=generic -c permute.c -o permute.o
C:/Rtools/mingw_64/bin/gcc -I"C:/Users/BIOCBU˜1/BBS-3˜1.9-B/R/include" -DNDEBUG -I"C:/extsoft/include" -O2 -Wall -std=gnu99 -mtune=generic -c shuffle.c -o shuffle.o
C:/Rtools/mingw_64/bin/gcc -I"C:/Users/BIOCBU˜1/BBS-3˜1.9-B/R/include" -DNDEBUG -I"C:/extsoft/include" -O2 -Wall -std=gnu99 -mtune=generic -c sigPathway.c -o sigPathway.o
C:/Rtools/mingw_64/bin/gcc -shared -s -static-libgcc -o sigPathway.dll tmp.def calc_gene_set_internal.o calc_gene_set_stat.o calc_probe_stat.o calc_weights.o matrix_fn.o permute.o shuffle.o sigPathway.o -LC:/Users/BIOCBU˜1/BBS-3˜1.9-B/R/bin/x64 -lRlapack -LC:/Users/BIOCBU˜1/BBS-3˜1.9-B/R/bin/x64 -lRblas -lgfortran -lm -lquadmath -LC:/extsoft/lib/x64 -LC:/extsoft/lib -LC:/Users/BIOCBU˜1/BBS-3˜1.9-B/R/bin/x64 -lR
installing to C:/Users/biocbuild/bbs-3.9-bioc/meat/sigPathway.buildbin-libdir/sigPathway/libs/x64
** testing if installed package can be loaded
* MD5 sums
packaged installation of 'sigPathway' as sigPathway_1.51.0.zip
* DONE (sigPathway)