| Back to Multiple platform build/check report for BioC 3.9 | 
  | 
This page was generated on 2019-04-09 13:09:02 -0400 (Tue, 09 Apr 2019).
| Package 1478/1703 | Hostname | OS / Arch | INSTALL | BUILD | CHECK | BUILD BIN | ||||||
| shinyTANDEM 1.21.1 Frederic Fournier 
  | malbec2 | Linux (Ubuntu 18.04.2 LTS) / x86_64 | OK | OK | OK | |||||||
| tokay2 | Windows Server 2012 R2 Standard / x64 | OK | OK | OK | OK | |||||||
| celaya2 | OS X 10.11.6 El Capitan / x86_64 | OK | [ OK ] | OK | OK | |||||||
| merida2 | OS X 10.11.6 El Capitan / x86_64 | OK | OK | OK | OK | 
| Package: shinyTANDEM | 
| Version: 1.21.1 | 
| Command: /Library/Frameworks/R.framework/Versions/Current/Resources/bin/R CMD build --keep-empty-dirs --no-resave-data shinyTANDEM | 
| StartedAt: 2019-04-08 20:40:13 -0400 (Mon, 08 Apr 2019) | 
| EndedAt: 2019-04-08 20:40:44 -0400 (Mon, 08 Apr 2019) | 
| EllapsedTime: 30.7 seconds | 
| RetCode: 0 | 
| Status: OK | 
| PackageFile: shinyTANDEM_1.21.1.tar.gz | 
| PackageFileSize: 609.9 KiB | 
##############################################################################
##############################################################################
###
### Running command:
###
###   /Library/Frameworks/R.framework/Versions/Current/Resources/bin/R CMD build --keep-empty-dirs --no-resave-data shinyTANDEM
###
##############################################################################
##############################################################################
* checking for file ‘shinyTANDEM/DESCRIPTION’ ... OK
* preparing ‘shinyTANDEM’:
* checking DESCRIPTION meta-information ... OK
* installing the package to build vignettes
* creating vignettes ... OK
Warning: ‘inst/doc’ file
    ‘shinyTANDEM.Rnw’
  ignored as vignettes have been rebuilt.
  Run R CMD build with --no-build-vignettes to prevent rebuilding.
* checking for LF line-endings in source and make files and shell scripts
* checking for empty or unneeded directories
* building ‘shinyTANDEM_1.21.1.tar.gz’