| Back to Multiple platform build/check report for BioC 3.9 |
|
This page was generated on 2019-04-09 12:38:47 -0400 (Tue, 09 Apr 2019).
| Package 1475/1703 | Hostname | OS / Arch | INSTALL | BUILD | CHECK | BUILD BIN | ||||||
| sevenC 1.3.0 Jonas Ibn-Salem
| malbec2 | Linux (Ubuntu 18.04.2 LTS) / x86_64 | OK | OK | OK | |||||||
| tokay2 | Windows Server 2012 R2 Standard / x64 | OK | OK | OK | [ OK ] | |||||||
| celaya2 | OS X 10.11.6 El Capitan / x86_64 | OK | OK | OK | OK | |||||||
| merida2 | OS X 10.11.6 El Capitan / x86_64 | OK | OK | OK | OK |
| Package: sevenC |
| Version: 1.3.0 |
| Command: rm -rf sevenC.buildbin-libdir && mkdir sevenC.buildbin-libdir && C:\Users\biocbuild\bbs-3.9-bioc\R\bin\R.exe CMD INSTALL --merge-multiarch --build --library=sevenC.buildbin-libdir sevenC_1.3.0.tar.gz |
| StartedAt: 2019-04-09 08:57:38 -0400 (Tue, 09 Apr 2019) |
| EndedAt: 2019-04-09 08:58:22 -0400 (Tue, 09 Apr 2019) |
| EllapsedTime: 44.5 seconds |
| RetCode: 0 |
| Status: OK |
| PackageFile: sevenC_1.3.0.zip |
| PackageFileSize: 2.044 MiB |
##############################################################################
##############################################################################
###
### Running command:
###
### rm -rf sevenC.buildbin-libdir && mkdir sevenC.buildbin-libdir && C:\Users\biocbuild\bbs-3.9-bioc\R\bin\R.exe CMD INSTALL --merge-multiarch --build --library=sevenC.buildbin-libdir sevenC_1.3.0.tar.gz
###
##############################################################################
##############################################################################
install for i386
* installing *source* package 'sevenC' ...
** R
** data
*** moving datasets to lazyload DB
** inst
** byte-compile and prepare package for lazy loading
** help
*** installing help indices
converting help for package 'sevenC'
finding HTML links ... done
TFspecificModels html
addCor html
addCovCor html
addCovToGR html
addInteractionSupport html
finding level-2 HTML links ... done
addMotifScore html
addStrandCombination html
cutoffBest10 html
cutoffByTF html
getCisPairs html
getOutOfBound html
modelBest10Avg html
motif.hg19.CTCF html
motif.hg19.CTCF.chr22 html
motif.hg19.CTCF.chr22.cov html
noZeroVar html
parseLoopsRao html
parseLoopsTang html
predLogit html
predLoops html
prepareCisPairs html
sevenC html
slideMean html
** building package indices
** installing vignettes
** testing if installed package can be loaded from temporary location
** testing if installed package can be loaded from final location
** testing if installed package keeps a record of temporary installation path
install for x64
* installing *source* package 'sevenC' ...
** testing if installed package can be loaded
* MD5 sums
packaged installation of 'sevenC' as sevenC_1.3.0.zip
* DONE (sevenC)