| Back to Multiple platform build/check report for BioC 3.9 |
|
This page was generated on 2019-04-09 12:21:10 -0400 (Tue, 09 Apr 2019).
| Package 1468/1703 | Hostname | OS / Arch | INSTALL | BUILD | CHECK | BUILD BIN | ||||||
| seqplots 1.21.1 Przemyslaw Stempor
| malbec2 | Linux (Ubuntu 18.04.2 LTS) / x86_64 | OK | ERROR | skipped | |||||||
| tokay2 | Windows Server 2012 R2 Standard / x64 | [ OK ] | ERROR | skipped | skipped | |||||||
| celaya2 | OS X 10.11.6 El Capitan / x86_64 | OK | ERROR | skipped | skipped | |||||||
| merida2 | OS X 10.11.6 El Capitan / x86_64 | OK | OK | WARNINGS | OK |
| Package: seqplots |
| Version: 1.21.1 |
| Command: C:\cygwin\bin\curl.exe -O https://malbec2.bioconductor.org/BBS/3.9/bioc/src/contrib/seqplots_1.21.1.tar.gz && rm -rf seqplots.buildbin-libdir && mkdir seqplots.buildbin-libdir && C:\Users\biocbuild\bbs-3.9-bioc\R\bin\R.exe CMD INSTALL --merge-multiarch --build --library=seqplots.buildbin-libdir seqplots_1.21.1.tar.gz && C:\Users\biocbuild\bbs-3.9-bioc\R\bin\R.exe CMD INSTALL seqplots_1.21.1.zip && rm seqplots_1.21.1.tar.gz seqplots_1.21.1.zip |
| StartedAt: 2019-04-08 20:08:57 -0400 (Mon, 08 Apr 2019) |
| EndedAt: 2019-04-08 20:12:22 -0400 (Mon, 08 Apr 2019) |
| EllapsedTime: 204.5 seconds |
| RetCode: 0 |
| Status: OK |
##############################################################################
##############################################################################
###
### Running command:
###
### C:\cygwin\bin\curl.exe -O https://malbec2.bioconductor.org/BBS/3.9/bioc/src/contrib/seqplots_1.21.1.tar.gz && rm -rf seqplots.buildbin-libdir && mkdir seqplots.buildbin-libdir && C:\Users\biocbuild\bbs-3.9-bioc\R\bin\R.exe CMD INSTALL --merge-multiarch --build --library=seqplots.buildbin-libdir seqplots_1.21.1.tar.gz && C:\Users\biocbuild\bbs-3.9-bioc\R\bin\R.exe CMD INSTALL seqplots_1.21.1.zip && rm seqplots_1.21.1.tar.gz seqplots_1.21.1.zip
###
##############################################################################
##############################################################################
% Total % Received % Xferd Average Speed Time Time Time Current
Dload Upload Total Spent Left Speed
0 0 0 0 0 0 0 0 --:--:-- --:--:-- --:--:-- 0
100 4854k 100 4854k 0 0 41.5M 0 --:--:-- --:--:-- --:--:-- 43.4M
install for i386
* installing *source* package 'seqplots' ...
** R
** inst
** byte-compile and prepare package for lazy loading
** help
*** installing help indices
converting help for package 'seqplots'
finding HTML links ... done
MotifSetup-class html
PlotSetArray-class html
PlotSetList-class html
PlotSetPair-class html
add_local_file html
deployServerInstance html
getPlotSetArray html
Rd warning: C:/Users/biocbuild/bbs-3.9-bioc/tmpdir/RtmpEzlglt/R.INSTALLe3861e656c/seqplots/man/getPlotSetArray.Rd:144: file link 'installed.genomes' in package 'BSgenome' does not exist and so has been treated as a topic
Rd warning: C:/Users/biocbuild/bbs-3.9-bioc/tmpdir/RtmpEzlglt/R.INSTALLe3861e656c/seqplots/man/getPlotSetArray.Rd:147: file link 'BSgenome' in package 'BSgenome' does not exist and so has been treated as a topic
getREF html
ggHeatmapPlotWrapper html
Rd warning: C:/Users/biocbuild/bbs-3.9-bioc/tmpdir/RtmpEzlglt/R.INSTALLe3861e656c/seqplots/man/ggHeatmapPlotWrapper.Rd:75: file link 'grDevices' in package 'grDevices' does not exist and so has been treated as a topic
heatmapPlotWrapper html
Rd warning: C:/Users/biocbuild/bbs-3.9-bioc/tmpdir/RtmpEzlglt/R.INSTALLe3861e656c/seqplots/man/heatmapPlotWrapper.Rd:76: file link 'grDevices' in package 'grDevices' does not exist and so has been treated as a topic
imPlot2 html
import.narrowPeak html
num2bp html
num2sci html
plot html
plotAverage html
plotHeatmap html
Rd warning: C:/Users/biocbuild/bbs-3.9-bioc/tmpdir/RtmpEzlglt/R.INSTALLe3861e656c/seqplots/man/plotHeatmap.Rd:177: file link 'grDevices' in package 'grDevices' does not exist and so has been treated as a topic
Rd warning: C:/Users/biocbuild/bbs-3.9-bioc/tmpdir/RtmpEzlglt/R.INSTALLe3861e656c/seqplots/man/plotHeatmap.Rd:192: file link 'geom_raster' in package 'ggplot2' does not exist and so has been treated as a topic
plotMext html
run html
seqplots-generic html
seqplots html
** building package indices
** installing vignettes
** testing if installed package can be loaded from temporary location
** testing if installed package can be loaded from final location
** testing if installed package keeps a record of temporary installation path
install for x64
* installing *source* package 'seqplots' ...
** testing if installed package can be loaded
* MD5 sums
packaged installation of 'seqplots' as seqplots_1.21.1.zip
* DONE (seqplots)
* installing to library 'C:/Users/biocbuild/bbs-3.9-bioc/R/library'
package 'seqplots' successfully unpacked and MD5 sums checked