| Back to Multiple platform build/check report for BioC 3.9 |
|
This page was generated on 2019-04-09 13:30:47 -0400 (Tue, 09 Apr 2019).
| Package 1471/1703 | Hostname | OS / Arch | INSTALL | BUILD | CHECK | BUILD BIN | ||||||
| seqTools 1.17.0 Wolfgang Kaisers
| malbec2 | Linux (Ubuntu 18.04.2 LTS) / x86_64 | OK | OK | WARNINGS | |||||||
| tokay2 | Windows Server 2012 R2 Standard / x64 | OK | OK | WARNINGS | OK | |||||||
| celaya2 | OS X 10.11.6 El Capitan / x86_64 | OK | OK | WARNINGS | OK | |||||||
| merida2 | OS X 10.11.6 El Capitan / x86_64 | OK | [ OK ] | WARNINGS | OK |
| Package: seqTools |
| Version: 1.17.0 |
| Command: /Library/Frameworks/R.framework/Versions/Current/Resources/bin/R CMD build --keep-empty-dirs --no-resave-data seqTools |
| StartedAt: 2019-04-08 21:00:52 -0400 (Mon, 08 Apr 2019) |
| EndedAt: 2019-04-08 21:01:13 -0400 (Mon, 08 Apr 2019) |
| EllapsedTime: 20.6 seconds |
| RetCode: 0 |
| Status: OK |
| PackageFile: seqTools_1.17.0.tar.gz |
| PackageFileSize: 450.9 KiB |
##############################################################################
##############################################################################
###
### Running command:
###
### /Library/Frameworks/R.framework/Versions/Current/Resources/bin/R CMD build --keep-empty-dirs --no-resave-data seqTools
###
##############################################################################
##############################################################################
* checking for file ‘seqTools/DESCRIPTION’ ... OK
* preparing ‘seqTools’:
* checking DESCRIPTION meta-information ... OK
* cleaning src
* installing the package to build vignettes
* creating vignettes ... OK
Warning: ‘inst/doc’ file
‘seqTools_qual_report.R’
ignored as vignettes have been rebuilt.
Run R CMD build with --no-build-vignettes to prevent rebuilding.
* cleaning src
* checking for LF line-endings in source and make files and shell scripts
* checking for empty or unneeded directories
* building ‘seqTools_1.17.0.tar.gz’