| Back to Multiple platform build/check report for BioC 3.9 |
|
This page was generated on 2019-04-09 12:22:30 -0400 (Tue, 09 Apr 2019).
| Package 1467/1703 | Hostname | OS / Arch | INSTALL | BUILD | CHECK | BUILD BIN | ||||||
| seqPattern 1.15.0 Vanja Haberle
| malbec2 | Linux (Ubuntu 18.04.2 LTS) / x86_64 | OK | OK | OK | |||||||
| tokay2 | Windows Server 2012 R2 Standard / x64 | OK | OK | OK | [ OK ] | |||||||
| celaya2 | OS X 10.11.6 El Capitan / x86_64 | OK | OK | OK | OK | |||||||
| merida2 | OS X 10.11.6 El Capitan / x86_64 | OK | OK | OK | OK |
| Package: seqPattern |
| Version: 1.15.0 |
| Command: rm -rf seqPattern.buildbin-libdir && mkdir seqPattern.buildbin-libdir && C:\Users\biocbuild\bbs-3.9-bioc\R\bin\R.exe CMD INSTALL --merge-multiarch --build --library=seqPattern.buildbin-libdir seqPattern_1.15.0.tar.gz |
| StartedAt: 2019-04-09 08:57:11 -0400 (Tue, 09 Apr 2019) |
| EndedAt: 2019-04-09 08:57:38 -0400 (Tue, 09 Apr 2019) |
| EllapsedTime: 26.2 seconds |
| RetCode: 0 |
| Status: OK |
| PackageFile: seqPattern_1.15.0.zip |
| PackageFileSize: 3.539 MiB |
##############################################################################
##############################################################################
###
### Running command:
###
### rm -rf seqPattern.buildbin-libdir && mkdir seqPattern.buildbin-libdir && C:\Users\biocbuild\bbs-3.9-bioc\R\bin\R.exe CMD INSTALL --merge-multiarch --build --library=seqPattern.buildbin-libdir seqPattern_1.15.0.tar.gz
###
##############################################################################
##############################################################################
install for i386
* installing *source* package 'seqPattern' ...
** R
** data
** inst
** byte-compile and prepare package for lazy loading
** help
*** installing help indices
converting help for package 'seqPattern'
finding HTML links ... done
TBPpwm html
getPatternOccurrenceList html
finding level-2 HTML links ... done
motifScanHits html
motifScanScores html
plotMotifDensityMap html
plotMotifOccurrenceAverage html
plotMotifScanScores html
plotPatternDensityMap html
plotPatternOccurrenceAverage html
seqPattern-package html
zebrafisPromoters html
zebrafisPromoters24h html
** building package indices
** installing vignettes
** testing if installed package can be loaded from temporary location
** testing if installed package can be loaded from final location
** testing if installed package keeps a record of temporary installation path
install for x64
* installing *source* package 'seqPattern' ...
** testing if installed package can be loaded
* MD5 sums
packaged installation of 'seqPattern' as seqPattern_1.15.0.zip
* DONE (seqPattern)