| Back to Multiple platform build/check report for BioC 3.9 | 
 | 
This page was generated on 2019-04-09 11:55:34 -0400 (Tue, 09 Apr 2019).
| Package 1466/1703 | Hostname | OS / Arch | INSTALL | BUILD | CHECK | BUILD BIN | ||||||
| seqLogo 1.49.0 Oliver Bembom 
 | malbec2 | Linux (Ubuntu 18.04.2 LTS) / x86_64 | OK | OK | OK |  | ||||||
| tokay2 | Windows Server 2012 R2 Standard / x64 | OK | OK | OK | [ OK ] |  | ||||||
| celaya2 | OS X 10.11.6 El Capitan / x86_64 | OK | OK | OK | OK |  | ||||||
| merida2 | OS X 10.11.6 El Capitan / x86_64 | OK | OK | OK | OK | 
| Package: seqLogo | 
| Version: 1.49.0 | 
| Command: rm -rf seqLogo.buildbin-libdir && mkdir seqLogo.buildbin-libdir && C:\Users\biocbuild\bbs-3.9-bioc\R\bin\R.exe CMD INSTALL --merge-multiarch --build --library=seqLogo.buildbin-libdir seqLogo_1.49.0.tar.gz | 
| StartedAt: 2019-04-09 08:57:08 -0400 (Tue, 09 Apr 2019) | 
| EndedAt: 2019-04-09 08:57:34 -0400 (Tue, 09 Apr 2019) | 
| EllapsedTime: 26.4 seconds | 
| RetCode: 0 | 
| Status: OK | 
| PackageFile: seqLogo_1.49.0.zip | 
| PackageFileSize: 354.3 KiB | 
##############################################################################
##############################################################################
###
### Running command:
###
###   rm -rf seqLogo.buildbin-libdir && mkdir seqLogo.buildbin-libdir && C:\Users\biocbuild\bbs-3.9-bioc\R\bin\R.exe CMD INSTALL --merge-multiarch --build --library=seqLogo.buildbin-libdir seqLogo_1.49.0.tar.gz
###
##############################################################################
##############################################################################
install for i386
* installing *source* package 'seqLogo' ...
** R
** inst
** byte-compile and prepare package for lazy loading
** help
*** installing help indices
  converting help for package 'seqLogo'
    finding HTML links ... done
    makePWM                                 html  
    pwm-class                               html  
    seqLogo                                 html  
** building package indices
** installing vignettes
** testing if installed package can be loaded from temporary location
** testing if installed package can be loaded from final location
** testing if installed package keeps a record of temporary installation path
install for x64
* installing *source* package 'seqLogo' ...
** testing if installed package can be loaded
* MD5 sums
packaged installation of 'seqLogo' as seqLogo_1.49.0.zip
* DONE (seqLogo)