| Back to Multiple platform build/check report for BioC 3.9 | 
 | 
This page was generated on 2019-04-09 13:35:47 -0400 (Tue, 09 Apr 2019).
| Package 1462/1703 | Hostname | OS / Arch | INSTALL | BUILD | CHECK | BUILD BIN | ||||||
| seqCAT 1.5.3 Erik Fasterius 
 | malbec2 | Linux (Ubuntu 18.04.2 LTS) / x86_64 | OK | OK | OK |  | ||||||
| tokay2 | Windows Server 2012 R2 Standard / x64 | OK | ERROR | skipped | skipped | |||||||
| celaya2 | OS X 10.11.6 El Capitan / x86_64 | OK | OK | OK | OK |  | ||||||
| merida2 | OS X 10.11.6 El Capitan / x86_64 | OK | OK | OK | [ OK ] | 
| Package: seqCAT | 
| Version: 1.5.3 | 
| Command: rm -rf seqCAT.buildbin-libdir && mkdir seqCAT.buildbin-libdir && /Users/biocbuild/BBS/utils/build-universal.sh seqCAT_1.5.3.tar.gz /Library/Frameworks/R.framework/Versions/Current/Resources/bin/R seqCAT.buildbin-libdir | 
| StartedAt: 2019-04-09 06:28:21 -0400 (Tue, 09 Apr 2019) | 
| EndedAt: 2019-04-09 06:29:32 -0400 (Tue, 09 Apr 2019) | 
| EllapsedTime: 70.7 seconds | 
| RetCode: 0 | 
| Status: OK | 
| PackageFile: seqCAT_1.5.3.tgz | 
| PackageFileSize: 1.966 MiB | 
############################################################################## ############################################################################## ### ### Running command: ### ### rm -rf seqCAT.buildbin-libdir && mkdir seqCAT.buildbin-libdir && /Users/biocbuild/BBS/utils/build-universal.sh seqCAT_1.5.3.tar.gz /Library/Frameworks/R.framework/Versions/Current/Resources/bin/R seqCAT.buildbin-libdir ### ############################################################################## ############################################################################## >>>>>>> >>>>>>> INSTALLATION WITH 'R CMD INSTALL --preclean --no-multiarch --library=seqCAT.buildbin-libdir seqCAT_1.5.3.tar.gz' >>>>>>> * installing *source* package ‘seqCAT’ ... ** R ** data *** moving datasets to lazyload DB ** inst ** byte-compile and prepare package for lazy loading ** help *** installing help indices ** building package indices ** installing vignettes ** testing if installed package can be loaded * DONE (seqCAT)