| Back to Multiple platform build/check report for BioC 3.9 |
|
This page was generated on 2019-04-09 13:31:01 -0400 (Tue, 09 Apr 2019).
| Package 1459/1703 | Hostname | OS / Arch | INSTALL | BUILD | CHECK | BUILD BIN | ||||||
| seq2pathway 1.15.0 Xinan Yang
| malbec2 | Linux (Ubuntu 18.04.2 LTS) / x86_64 | OK | OK | ERROR | |||||||
| tokay2 | Windows Server 2012 R2 Standard / x64 | OK | OK | ERROR | OK | |||||||
| celaya2 | OS X 10.11.6 El Capitan / x86_64 | OK | OK | ERROR | OK | |||||||
| merida2 | OS X 10.11.6 El Capitan / x86_64 | OK | [ OK ] | ERROR | OK |
| Package: seq2pathway |
| Version: 1.15.0 |
| Command: /Library/Frameworks/R.framework/Versions/Current/Resources/bin/R CMD build --keep-empty-dirs --no-resave-data seq2pathway |
| StartedAt: 2019-04-08 21:04:03 -0400 (Mon, 08 Apr 2019) |
| EndedAt: 2019-04-08 21:06:00 -0400 (Mon, 08 Apr 2019) |
| EllapsedTime: 117.8 seconds |
| RetCode: 0 |
| Status: OK |
| PackageFile: seq2pathway_1.15.0.tar.gz |
| PackageFileSize: 6.078 MiB |
##############################################################################
##############################################################################
###
### Running command:
###
### /Library/Frameworks/R.framework/Versions/Current/Resources/bin/R CMD build --keep-empty-dirs --no-resave-data seq2pathway
###
##############################################################################
##############################################################################
* checking for file ‘seq2pathway/DESCRIPTION’ ... OK
* preparing ‘seq2pathway’:
* checking DESCRIPTION meta-information ... OK
* installing the package to build vignettes
* creating vignettes ... OK
Warning: ‘inst/doc’ files
‘seq2pathwaypackage.Rnw’, ‘seq2pathwaypackage.pdf’, ‘seq2pathwaypackage.R’
ignored as vignettes have been rebuilt.
Run R CMD build with --no-build-vignettes to prevent rebuilding.
* excluding invalid files
Subdirectory 'R' contains invalid file names:
‘seq2pathway’ ‘seq2pathway.rdb’ ‘seq2pathway.rdx’
* checking for LF line-endings in source and make files and shell scripts
* checking for empty or unneeded directories
WARNING: Removing directory ‘seq2pathway/Meta’ which should only occur
in an installed package
WARNING: Removing directory ‘seq2pathway/help’ which should only occur
in an installed package
WARNING: Removing directory ‘seq2pathway/html’ which should only occur
in an installed package
* looking to see if a ‘data/datalist’ file should be added
* building ‘seq2pathway_1.15.0.tar.gz’