| Back to Multiple platform build/check report for BioC 3.9 | 
 | 
This page was generated on 2019-04-09 13:34:57 -0400 (Tue, 09 Apr 2019).
| Package 1456/1703 | Hostname | OS / Arch | INSTALL | BUILD | CHECK | BUILD BIN | ||||||
| semisup 1.7.1 Armin Rauschenberger 
 | malbec2 | Linux (Ubuntu 18.04.2 LTS) / x86_64 | OK | OK | OK |  | ||||||
| tokay2 | Windows Server 2012 R2 Standard / x64 | OK | OK | OK | OK |  | ||||||
| celaya2 | OS X 10.11.6 El Capitan / x86_64 | OK | OK | OK | OK |  | ||||||
| merida2 | OS X 10.11.6 El Capitan / x86_64 | OK | OK | OK | [ OK ] | 
| Package: semisup | 
| Version: 1.7.1 | 
| Command: rm -rf semisup.buildbin-libdir && mkdir semisup.buildbin-libdir && /Users/biocbuild/BBS/utils/build-universal.sh semisup_1.7.1.tar.gz /Library/Frameworks/R.framework/Versions/Current/Resources/bin/R semisup.buildbin-libdir | 
| StartedAt: 2019-04-09 06:27:54 -0400 (Tue, 09 Apr 2019) | 
| EndedAt: 2019-04-09 06:29:03 -0400 (Tue, 09 Apr 2019) | 
| EllapsedTime: 68.7 seconds | 
| RetCode: 0 | 
| Status: OK | 
| PackageFile: semisup_1.7.1.tgz | 
| PackageFileSize: 341.5 KiB | 
############################################################################## ############################################################################## ### ### Running command: ### ### rm -rf semisup.buildbin-libdir && mkdir semisup.buildbin-libdir && /Users/biocbuild/BBS/utils/build-universal.sh semisup_1.7.1.tar.gz /Library/Frameworks/R.framework/Versions/Current/Resources/bin/R semisup.buildbin-libdir ### ############################################################################## ############################################################################## >>>>>>> >>>>>>> INSTALLATION WITH 'R CMD INSTALL --preclean --no-multiarch --library=semisup.buildbin-libdir semisup_1.7.1.tar.gz' >>>>>>> * installing *source* package ‘semisup’ ... ** R ** data *** moving datasets to lazyload DB ** inst ** byte-compile and prepare package for lazy loading ** help *** installing help indices ** building package indices ** installing vignettes ** testing if installed package can be loaded * DONE (semisup)