| Back to Multiple platform build/check report for BioC 3.9 |
|
This page was generated on 2019-04-09 13:25:07 -0400 (Tue, 09 Apr 2019).
| Package 1453/1703 | Hostname | OS / Arch | INSTALL | BUILD | CHECK | BUILD BIN | ||||||
| segmentSeq 2.17.0 Thomas J. Hardcastle
| malbec2 | Linux (Ubuntu 18.04.2 LTS) / x86_64 | OK | OK | OK | |||||||
| tokay2 | Windows Server 2012 R2 Standard / x64 | OK | OK | WARNINGS | OK | |||||||
| celaya2 | OS X 10.11.6 El Capitan / x86_64 | OK | OK | OK | OK | |||||||
| merida2 | OS X 10.11.6 El Capitan / x86_64 | OK | OK | [ OK ] | OK |
| Package: segmentSeq |
| Version: 2.17.0 |
| Command: /Library/Frameworks/R.framework/Versions/Current/Resources/bin/R CMD check --install=check:segmentSeq.install-out.txt --library=/Library/Frameworks/R.framework/Versions/Current/Resources/library --no-vignettes --timings segmentSeq_2.17.0.tar.gz |
| StartedAt: 2019-04-09 03:38:18 -0400 (Tue, 09 Apr 2019) |
| EndedAt: 2019-04-09 03:44:28 -0400 (Tue, 09 Apr 2019) |
| EllapsedTime: 369.9 seconds |
| RetCode: 0 |
| Status: OK |
| CheckDir: segmentSeq.Rcheck |
| Warnings: 0 |
##############################################################################
##############################################################################
###
### Running command:
###
### /Library/Frameworks/R.framework/Versions/Current/Resources/bin/R CMD check --install=check:segmentSeq.install-out.txt --library=/Library/Frameworks/R.framework/Versions/Current/Resources/library --no-vignettes --timings segmentSeq_2.17.0.tar.gz
###
##############################################################################
##############################################################################
* using log directory ‘/Users/biocbuild/bbs-3.9-bioc/meat/segmentSeq.Rcheck’
* using R Under development (unstable) (2018-11-27 r75683)
* using platform: x86_64-apple-darwin15.6.0 (64-bit)
* using session charset: UTF-8
* using option ‘--no-vignettes’
* checking for file ‘segmentSeq/DESCRIPTION’ ... OK
* checking extension type ... Package
* this is package ‘segmentSeq’ version ‘2.17.0’
* checking package namespace information ... OK
* checking package dependencies ... OK
* checking if this is a source package ... OK
* checking if there is a namespace ... OK
* checking for hidden files and directories ... OK
* checking for portable file names ... OK
* checking for sufficient/correct file permissions ... OK
* checking whether package ‘segmentSeq’ can be installed ... OK
* checking installed package size ... OK
* checking package directory ... OK
* checking ‘build’ directory ... OK
* checking DESCRIPTION meta-information ... OK
* checking top-level files ... OK
* checking for left-over files ... OK
* checking index information ... OK
* checking package subdirectories ... OK
* checking R files for non-ASCII characters ... OK
* checking R files for syntax errors ... OK
* checking whether the package can be loaded ... OK
* checking whether the package can be loaded with stated dependencies ... OK
* checking whether the package can be unloaded cleanly ... OK
* checking whether the namespace can be loaded with stated dependencies ... OK
* checking whether the namespace can be unloaded cleanly ... OK
* checking dependencies in R code ... OK
* checking S3 generic/method consistency ... OK
* checking replacement functions ... OK
* checking foreign function calls ... OK
* checking R code for possible problems ... NOTE
heuristicSeg : <anonymous>: no visible binding for global variable
‘sDP’
Undefined global functions or variables:
sDP
* checking Rd files ... OK
* checking Rd metadata ... OK
* checking Rd cross-references ... OK
* checking for missing documentation entries ... OK
* checking for code/documentation mismatches ... OK
* checking Rd \usage sections ... OK
* checking Rd contents ... OK
* checking for unstated dependencies in examples ... OK
* checking contents of ‘data’ directory ... OK
* checking data for non-ASCII characters ... OK
* checking data for ASCII and uncompressed saves ... OK
* checking sizes of PDF files under ‘inst/doc’ ... OK
* checking files in ‘vignettes’ ... OK
* checking examples ... OK
Examples with CPU or elapsed time > 5s
user system elapsed
classifySeg 32.162 0.441 32.822
heuristicSeg 14.894 0.047 15.095
lociLikelihoods 14.888 0.053 15.110
plotGenome 6.544 0.024 6.633
normaliseNC 5.181 0.615 5.868
* checking for unstated dependencies in vignettes ... OK
* checking package vignettes in ‘inst/doc’ ... OK
* checking running R code from vignettes ... SKIPPED
* checking re-building of vignette outputs ... SKIPPED
* checking PDF version of manual ... OK
* DONE
Status: 1 NOTE
See
‘/Users/biocbuild/bbs-3.9-bioc/meat/segmentSeq.Rcheck/00check.log’
for details.
segmentSeq.Rcheck/00install.out
############################################################################## ############################################################################## ### ### Running command: ### ### /Library/Frameworks/R.framework/Versions/Current/Resources/bin/R CMD INSTALL segmentSeq ### ############################################################################## ############################################################################## * installing to library ‘/Library/Frameworks/R.framework/Versions/3.6/Resources/library’ * installing *source* package ‘segmentSeq’ ... ** R ** data ** inst ** byte-compile and prepare package for lazy loading ** help *** installing help indices ** building package indices ** installing vignettes ** testing if installed package can be loaded * DONE (segmentSeq)
segmentSeq.Rcheck/segmentSeq-Ex.timings
| name | user | system | elapsed | |
| alignmentData-class | 3.488 | 0.015 | 3.530 | |
| classifySeg | 32.162 | 0.441 | 32.822 | |
| findChunks | 3.060 | 0.009 | 3.097 | |
| getCounts | 4.914 | 0.010 | 4.968 | |
| getOverlaps | 3.356 | 0.006 | 3.395 | |
| heuristicSeg | 14.894 | 0.047 | 15.095 | |
| lociLikelihoods | 14.888 | 0.053 | 15.110 | |
| normaliseNC | 5.181 | 0.615 | 5.868 | |
| plotGenome | 6.544 | 0.024 | 6.633 | |
| processAD | 3.995 | 0.008 | 4.035 | |
| readMethods | 3.191 | 0.006 | 3.228 | |
| readMeths | 4.072 | 0.566 | 4.679 | |
| segData-class | 4.161 | 0.019 | 4.227 | |
| segmentSeq-package | 4.185 | 0.008 | 4.240 | |
| thresholdFinder | 4.252 | 0.609 | 4.909 | |