| Back to Multiple platform build/check report for BioC 3.9 | 
  | 
This page was generated on 2019-04-09 13:18:33 -0400 (Tue, 09 Apr 2019).
| Package 1446/1703 | Hostname | OS / Arch | INSTALL | BUILD | CHECK | BUILD BIN | ||||||
| scoreInvHap 1.5.0 Carlos Ruiz 
  | malbec2 | Linux (Ubuntu 18.04.2 LTS) / x86_64 | OK | OK | WARNINGS | |||||||
| tokay2 | Windows Server 2012 R2 Standard / x64 | OK | ERROR | skipped | skipped | |||||||
| celaya2 | OS X 10.11.6 El Capitan / x86_64 | OK | OK | WARNINGS | [ OK ] | |||||||
| merida2 | OS X 10.11.6 El Capitan / x86_64 | OK | OK | WARNINGS | OK | 
| Package: scoreInvHap | 
| Version: 1.5.0 | 
| Command: rm -rf scoreInvHap.buildbin-libdir && mkdir scoreInvHap.buildbin-libdir && /Users/biocbuild/BBS/utils/build-universal.sh scoreInvHap_1.5.0.tar.gz /Library/Frameworks/R.framework/Versions/Current/Resources/bin/R scoreInvHap.buildbin-libdir | 
| StartedAt: 2019-04-09 07:44:37 -0400 (Tue, 09 Apr 2019) | 
| EndedAt: 2019-04-09 07:45:39 -0400 (Tue, 09 Apr 2019) | 
| EllapsedTime: 61.9 seconds | 
| RetCode: 0 | 
| Status: OK | 
| PackageFile: scoreInvHap_1.5.0.tgz | 
| PackageFileSize: 1.118 MiB | 
############################################################################## ############################################################################## ### ### Running command: ### ### rm -rf scoreInvHap.buildbin-libdir && mkdir scoreInvHap.buildbin-libdir && /Users/biocbuild/BBS/utils/build-universal.sh scoreInvHap_1.5.0.tar.gz /Library/Frameworks/R.framework/Versions/Current/Resources/bin/R scoreInvHap.buildbin-libdir ### ############################################################################## ############################################################################## >>>>>>> >>>>>>> INSTALLATION WITH 'R CMD INSTALL --preclean --no-multiarch --library=scoreInvHap.buildbin-libdir scoreInvHap_1.5.0.tar.gz' >>>>>>> * installing *source* package ‘scoreInvHap’ ... ** using staged installation ** R ** data *** moving datasets to lazyload DB ** inst ** byte-compile and prepare package for lazy loading ** help *** installing help indices ** building package indices ** installing vignettes ** testing if installed package can be loaded from temporary location ** testing if installed package can be loaded from final location ** testing if installed package keeps a record of temporary installation path * DONE (scoreInvHap)