| Back to Multiple platform build/check report for BioC 3.9 |
|
This page was generated on 2019-04-09 13:36:16 -0400 (Tue, 09 Apr 2019).
| Package 1438/1703 | Hostname | OS / Arch | INSTALL | BUILD | CHECK | BUILD BIN | ||||||
| scFeatureFilter 1.3.1 Guillaume Devailly
| malbec2 | Linux (Ubuntu 18.04.2 LTS) / x86_64 | OK | OK | OK | |||||||
| tokay2 | Windows Server 2012 R2 Standard / x64 | OK | OK | OK | OK | |||||||
| celaya2 | OS X 10.11.6 El Capitan / x86_64 | OK | OK | OK | OK | |||||||
| merida2 | OS X 10.11.6 El Capitan / x86_64 | OK | OK | [ OK ] | OK |
| Package: scFeatureFilter |
| Version: 1.3.1 |
| Command: /Library/Frameworks/R.framework/Versions/Current/Resources/bin/R CMD check --install=check:scFeatureFilter.install-out.txt --library=/Library/Frameworks/R.framework/Versions/Current/Resources/library --no-vignettes --timings scFeatureFilter_1.3.1.tar.gz |
| StartedAt: 2019-04-09 03:35:39 -0400 (Tue, 09 Apr 2019) |
| EndedAt: 2019-04-09 03:37:52 -0400 (Tue, 09 Apr 2019) |
| EllapsedTime: 132.2 seconds |
| RetCode: 0 |
| Status: OK |
| CheckDir: scFeatureFilter.Rcheck |
| Warnings: 0 |
##############################################################################
##############################################################################
###
### Running command:
###
### /Library/Frameworks/R.framework/Versions/Current/Resources/bin/R CMD check --install=check:scFeatureFilter.install-out.txt --library=/Library/Frameworks/R.framework/Versions/Current/Resources/library --no-vignettes --timings scFeatureFilter_1.3.1.tar.gz
###
##############################################################################
##############################################################################
* using log directory ‘/Users/biocbuild/bbs-3.9-bioc/meat/scFeatureFilter.Rcheck’
* using R Under development (unstable) (2018-11-27 r75683)
* using platform: x86_64-apple-darwin15.6.0 (64-bit)
* using session charset: UTF-8
* using option ‘--no-vignettes’
* checking for file ‘scFeatureFilter/DESCRIPTION’ ... OK
* checking extension type ... Package
* this is package ‘scFeatureFilter’ version ‘1.3.1’
* checking package namespace information ... OK
* checking package dependencies ... OK
* checking if this is a source package ... OK
* checking if there is a namespace ... OK
* checking for hidden files and directories ... OK
* checking for portable file names ... OK
* checking for sufficient/correct file permissions ... OK
* checking whether package ‘scFeatureFilter’ can be installed ... OK
* checking installed package size ... OK
* checking package directory ... OK
* checking ‘build’ directory ... OK
* checking DESCRIPTION meta-information ... OK
* checking top-level files ... OK
* checking for left-over files ... OK
* checking index information ... OK
* checking package subdirectories ... OK
* checking R files for non-ASCII characters ... OK
* checking R files for syntax errors ... OK
* checking whether the package can be loaded ... OK
* checking whether the package can be loaded with stated dependencies ... OK
* checking whether the package can be unloaded cleanly ... OK
* checking whether the namespace can be loaded with stated dependencies ... OK
* checking whether the namespace can be unloaded cleanly ... OK
* checking dependencies in R code ... OK
* checking S3 generic/method consistency ... OK
* checking replacement functions ... OK
* checking foreign function calls ... OK
* checking R code for possible problems ... OK
* checking Rd files ... OK
* checking Rd metadata ... OK
* checking Rd cross-references ... OK
* checking for missing documentation entries ... OK
* checking for code/documentation mismatches ... OK
* checking Rd \usage sections ... OK
* checking Rd contents ... OK
* checking for unstated dependencies in examples ... OK
* checking contents of ‘data’ directory ... OK
* checking data for non-ASCII characters ... OK
* checking data for ASCII and uncompressed saves ... OK
* checking files in ‘vignettes’ ... OK
* checking examples ... OK
Examples with CPU or elapsed time > 5s
user system elapsed
plot_correlations_distributions 19.856 2.719 22.810
plot_metric 13.032 2.402 15.608
sc_feature_filter 11.620 2.425 14.157
plot_mean_variance 8.950 0.543 9.604
bin_scdata 7.354 0.327 7.753
* checking for unstated dependencies in ‘tests’ ... OK
* checking tests ...
Running ‘testthat.R’
OK
* checking for unstated dependencies in vignettes ... OK
* checking package vignettes in ‘inst/doc’ ... OK
* checking running R code from vignettes ... SKIPPED
* checking re-building of vignette outputs ... SKIPPED
* checking PDF version of manual ... OK
* DONE
Status: OK
scFeatureFilter.Rcheck/00install.out
############################################################################## ############################################################################## ### ### Running command: ### ### /Library/Frameworks/R.framework/Versions/Current/Resources/bin/R CMD INSTALL scFeatureFilter ### ############################################################################## ############################################################################## * installing to library ‘/Library/Frameworks/R.framework/Versions/3.6/Resources/library’ * installing *source* package ‘scFeatureFilter’ ... ** R ** data *** moving datasets to lazyload DB ** inst ** byte-compile and prepare package for lazy loading ** help *** installing help indices ** building package indices ** installing vignettes ** testing if installed package can be loaded * DONE (scFeatureFilter)
scFeatureFilter.Rcheck/tests/testthat.Rout
R Under development (unstable) (2018-11-27 r75683) -- "Unsuffered Consequences"
Copyright (C) 2018 The R Foundation for Statistical Computing
Platform: x86_64-apple-darwin15.6.0 (64-bit)
R is free software and comes with ABSOLUTELY NO WARRANTY.
You are welcome to redistribute it under certain conditions.
Type 'license()' or 'licence()' for distribution details.
R is a collaborative project with many contributors.
Type 'contributors()' for more information and
'citation()' on how to cite R or R packages in publications.
Type 'demo()' for some demos, 'help()' for on-line help, or
'help.start()' for an HTML browser interface to help.
Type 'q()' to quit R.
> library(testthat)
> library(dplyr)
Attaching package: 'dplyr'
The following object is masked from 'package:testthat':
matches
The following objects are masked from 'package:stats':
filter, lag
The following objects are masked from 'package:base':
intersect, setdiff, setequal, union
> library(scFeatureFilter)
>
> test_check("scFeatureFilter")
══ testthat results ═══════════════════════════════════════════════════════════
OK: 34 SKIPPED: 0 FAILED: 0
>
> proc.time()
user system elapsed
9.421 0.560 10.030
scFeatureFilter.Rcheck/scFeatureFilter-Ex.timings
| name | user | system | elapsed | |
| bin_scdata | 7.354 | 0.327 | 7.753 | |
| calculate_cvs | 0.174 | 0.010 | 0.185 | |
| correlate_windows | 0.130 | 0.018 | 0.149 | |
| correlations_to_densities | 0.211 | 0.031 | 0.243 | |
| define_top_genes | 0.323 | 0.042 | 0.369 | |
| determine_bin_cutoff | 0.026 | 0.001 | 0.026 | |
| filter_expression_table | 0.082 | 0.001 | 0.084 | |
| get_mean_median | 0.085 | 0.001 | 0.087 | |
| plot_correlations_distributions | 19.856 | 2.719 | 22.810 | |
| plot_mean_variance | 8.950 | 0.543 | 9.604 | |
| plot_metric | 13.032 | 2.402 | 15.608 | |
| plot_top_window_autocor | 3.069 | 0.313 | 3.410 | |
| sc_feature_filter | 11.620 | 2.425 | 14.157 | |