| Back to Multiple platform build/check report for BioC 3.9 |
|
This page was generated on 2019-04-09 12:29:12 -0400 (Tue, 09 Apr 2019).
| Package 1423/1703 | Hostname | OS / Arch | INSTALL | BUILD | CHECK | BUILD BIN | ||||||
| sampleClassifier 1.7.1 Khadija El Amrani
| malbec2 | Linux (Ubuntu 18.04.2 LTS) / x86_64 | OK | OK | OK | |||||||
| tokay2 | Windows Server 2012 R2 Standard / x64 | [ OK ] | OK | OK | OK | |||||||
| celaya2 | OS X 10.11.6 El Capitan / x86_64 | OK | OK | OK | OK | |||||||
| merida2 | OS X 10.11.6 El Capitan / x86_64 | OK | OK | OK | OK |
| Package: sampleClassifier |
| Version: 1.7.1 |
| Command: C:\cygwin\bin\curl.exe -O https://malbec2.bioconductor.org/BBS/3.9/bioc/src/contrib/sampleClassifier_1.7.1.tar.gz && rm -rf sampleClassifier.buildbin-libdir && mkdir sampleClassifier.buildbin-libdir && C:\Users\biocbuild\bbs-3.9-bioc\R\bin\R.exe CMD INSTALL --merge-multiarch --build --library=sampleClassifier.buildbin-libdir sampleClassifier_1.7.1.tar.gz && C:\Users\biocbuild\bbs-3.9-bioc\R\bin\R.exe CMD INSTALL sampleClassifier_1.7.1.zip && rm sampleClassifier_1.7.1.tar.gz sampleClassifier_1.7.1.zip |
| StartedAt: 2019-04-08 19:34:57 -0400 (Mon, 08 Apr 2019) |
| EndedAt: 2019-04-08 19:35:34 -0400 (Mon, 08 Apr 2019) |
| EllapsedTime: 36.9 seconds |
| RetCode: 0 |
| Status: OK |
##############################################################################
##############################################################################
###
### Running command:
###
### C:\cygwin\bin\curl.exe -O https://malbec2.bioconductor.org/BBS/3.9/bioc/src/contrib/sampleClassifier_1.7.1.tar.gz && rm -rf sampleClassifier.buildbin-libdir && mkdir sampleClassifier.buildbin-libdir && C:\Users\biocbuild\bbs-3.9-bioc\R\bin\R.exe CMD INSTALL --merge-multiarch --build --library=sampleClassifier.buildbin-libdir sampleClassifier_1.7.1.tar.gz && C:\Users\biocbuild\bbs-3.9-bioc\R\bin\R.exe CMD INSTALL sampleClassifier_1.7.1.zip && rm sampleClassifier_1.7.1.tar.gz sampleClassifier_1.7.1.zip
###
##############################################################################
##############################################################################
% Total % Received % Xferd Average Speed Time Time Time Current
Dload Upload Total Spent Left Speed
0 0 0 0 0 0 0 0 --:--:-- --:--:-- --:--:-- 0
100 219k 100 219k 0 0 3362k 0 --:--:-- --:--:-- --:--:-- 3791k
install for i386
* installing *source* package 'sampleClassifier' ...
** R
** byte-compile and prepare package for lazy loading
** help
*** installing help indices
converting help for package 'sampleClassifier'
finding HTML links ... done
classifyProfile html
classifyProfile.rnaseq html
classifyProfile.rnaseq.svm html
classifyProfile.svm html
get.heatmap html
sampleClassifier-internal html
sampleClassifier-package html
** building package indices
** installing vignettes
** testing if installed package can be loaded from temporary location
** testing if installed package can be loaded from final location
** testing if installed package keeps a record of temporary installation path
install for x64
* installing *source* package 'sampleClassifier' ...
** testing if installed package can be loaded
* MD5 sums
packaged installation of 'sampleClassifier' as sampleClassifier_1.7.1.zip
* DONE (sampleClassifier)
* installing to library 'C:/Users/biocbuild/bbs-3.9-bioc/R/library'
package 'sampleClassifier' successfully unpacked and MD5 sums checked