| Back to Multiple platform build/check report for BioC 3.9 | 
 | 
This page was generated on 2019-04-09 12:04:30 -0400 (Tue, 09 Apr 2019).
| Package 1555/1703 | Hostname | OS / Arch | INSTALL | BUILD | CHECK | BUILD BIN | ||||||
| sSeq 1.21.1 Danni Yu 
 | malbec2 | Linux (Ubuntu 18.04.2 LTS) / x86_64 | OK | OK | OK |  | ||||||
| tokay2 | Windows Server 2012 R2 Standard / x64 | OK | OK | OK | [ OK ] |  | ||||||
| celaya2 | OS X 10.11.6 El Capitan / x86_64 | OK | OK | OK | OK |  | ||||||
| merida2 | OS X 10.11.6 El Capitan / x86_64 | OK | OK | OK | OK | 
| Package: sSeq | 
| Version: 1.21.1 | 
| Command: rm -rf sSeq.buildbin-libdir && mkdir sSeq.buildbin-libdir && C:\Users\biocbuild\bbs-3.9-bioc\R\bin\R.exe CMD INSTALL --merge-multiarch --build --library=sSeq.buildbin-libdir sSeq_1.21.1.tar.gz | 
| StartedAt: 2019-04-09 09:02:20 -0400 (Tue, 09 Apr 2019) | 
| EndedAt: 2019-04-09 09:03:10 -0400 (Tue, 09 Apr 2019) | 
| EllapsedTime: 50.2 seconds | 
| RetCode: 0 | 
| Status: OK | 
| PackageFile: sSeq_1.21.1.zip | 
| PackageFileSize: 1.306 MiB | 
##############################################################################
##############################################################################
###
### Running command:
###
###   rm -rf sSeq.buildbin-libdir && mkdir sSeq.buildbin-libdir && C:\Users\biocbuild\bbs-3.9-bioc\R\bin\R.exe CMD INSTALL --merge-multiarch --build --library=sSeq.buildbin-libdir sSeq_1.21.1.tar.gz
###
##############################################################################
##############################################################################
install for i386
* installing *source* package 'sSeq' ...
** R
** data
** inst
** byte-compile and prepare package for lazy loading
** help
*** installing help indices
  converting help for package 'sSeq'
    finding HTML links ... done
    Hammer2months                           html  
    Sultan                                  html  
    Tuch                                    html  
    countsTable                             html  
    drawMA_vol                              html  
    ecdfAUC                                 html  
    equalSpace                              html  
    exactNBtest1                            html  
    getAdjustDisp                           html  
    getNormFactor                           html  
    getQ                                    html  
    getT                                    html  
    getTgroup                               html  
    nbTestSH                                html  
    nbinomTestForMatricesSH                 html  
    plotDispersion                          html  
    rnbinomMV                               html  
    rowVars                                 html  
    sSeq-package                            html  
    sim                                     html  
** building package indices
** installing vignettes
** testing if installed package can be loaded from temporary location
** testing if installed package can be loaded from final location
** testing if installed package keeps a record of temporary installation path
install for x64
* installing *source* package 'sSeq' ...
** testing if installed package can be loaded
* MD5 sums
packaged installation of 'sSeq' as sSeq_1.21.1.zip
* DONE (sSeq)