| Back to Multiple platform build/check report for BioC 3.9 | 
 | 
This page was generated on 2019-04-09 13:17:54 -0400 (Tue, 09 Apr 2019).
| Package 1389/1703 | Hostname | OS / Arch | INSTALL | BUILD | CHECK | BUILD BIN | ||||||
| rqt 1.9.0 Ilya Y. Zhbannikov 
 | malbec2 | Linux (Ubuntu 18.04.2 LTS) / x86_64 | OK | OK | OK |  | ||||||
| tokay2 | Windows Server 2012 R2 Standard / x64 | OK | OK | OK | OK |  | ||||||
| celaya2 | OS X 10.11.6 El Capitan / x86_64 | OK | OK | OK | [ OK ] |  | ||||||
| merida2 | OS X 10.11.6 El Capitan / x86_64 | OK | OK | OK | OK | 
| Package: rqt | 
| Version: 1.9.0 | 
| Command: rm -rf rqt.buildbin-libdir && mkdir rqt.buildbin-libdir && /Users/biocbuild/BBS/utils/build-universal.sh rqt_1.9.0.tar.gz /Library/Frameworks/R.framework/Versions/Current/Resources/bin/R rqt.buildbin-libdir | 
| StartedAt: 2019-04-09 07:41:31 -0400 (Tue, 09 Apr 2019) | 
| EndedAt: 2019-04-09 07:42:05 -0400 (Tue, 09 Apr 2019) | 
| EllapsedTime: 34.8 seconds | 
| RetCode: 0 | 
| Status: OK | 
| PackageFile: rqt_1.9.0.tgz | 
| PackageFileSize: 761.4 KiB | 
############################################################################## ############################################################################## ### ### Running command: ### ### rm -rf rqt.buildbin-libdir && mkdir rqt.buildbin-libdir && /Users/biocbuild/BBS/utils/build-universal.sh rqt_1.9.0.tar.gz /Library/Frameworks/R.framework/Versions/Current/Resources/bin/R rqt.buildbin-libdir ### ############################################################################## ############################################################################## >>>>>>> >>>>>>> INSTALLATION WITH 'R CMD INSTALL --preclean --no-multiarch --library=rqt.buildbin-libdir rqt_1.9.0.tar.gz' >>>>>>> * installing *source* package ‘rqt’ ... ** using staged installation ** R ** inst ** byte-compile and prepare package for lazy loading ** help *** installing help indices ** building package indices ** installing vignettes ** testing if installed package can be loaded from temporary location ** testing if installed package can be loaded from final location ** testing if installed package keeps a record of temporary installation path * DONE (rqt)