| Back to Multiple platform build/check report for BioC 3.9 |
|
This page was generated on 2019-04-09 12:24:35 -0400 (Tue, 09 Apr 2019).
| Package 1382/1703 | Hostname | OS / Arch | INSTALL | BUILD | CHECK | BUILD BIN | ||||||
| ropls 1.15.26 Etienne A. Thevenot
| malbec2 | Linux (Ubuntu 18.04.2 LTS) / x86_64 | OK | OK | OK | |||||||
| tokay2 | Windows Server 2012 R2 Standard / x64 | OK | OK | OK | [ OK ] | |||||||
| celaya2 | OS X 10.11.6 El Capitan / x86_64 | OK | OK | OK | OK | |||||||
| merida2 | OS X 10.11.6 El Capitan / x86_64 | OK | OK | OK | OK |
| Package: ropls |
| Version: 1.15.26 |
| Command: rm -rf ropls.buildbin-libdir && mkdir ropls.buildbin-libdir && C:\Users\biocbuild\bbs-3.9-bioc\R\bin\R.exe CMD INSTALL --merge-multiarch --build --library=ropls.buildbin-libdir ropls_1.15.26.tar.gz |
| StartedAt: 2019-04-09 08:52:11 -0400 (Tue, 09 Apr 2019) |
| EndedAt: 2019-04-09 08:52:42 -0400 (Tue, 09 Apr 2019) |
| EllapsedTime: 30.6 seconds |
| RetCode: 0 |
| Status: OK |
| PackageFile: ropls_1.15.26.zip |
| PackageFileSize: 1.877 MiB |
##############################################################################
##############################################################################
###
### Running command:
###
### rm -rf ropls.buildbin-libdir && mkdir ropls.buildbin-libdir && C:\Users\biocbuild\bbs-3.9-bioc\R\bin\R.exe CMD INSTALL --merge-multiarch --build --library=ropls.buildbin-libdir ropls_1.15.26.tar.gz
###
##############################################################################
##############################################################################
install for i386
* installing *source* package 'ropls' ...
** R
** data
** inst
** byte-compile and prepare package for lazy loading
** help
*** installing help indices
converting help for package 'ropls'
finding HTML links ... done
aminoacids html
cellulose html
checkW4M html
coef html
cornell html
fitted html
foods html
fromW4M html
getEset html
getLoadingMN html
getPcaVarVn html
getScoreMN html
getSubsetVi html
getSummaryDF html
getVipVn html
getWeightMN html
imageF html
linnerud html
lowarp html
mark html
opls-class html
opls html
plot html
predict html
print html
residuals html
ropls-package html
sacurine html
show html
strF html
tested html
toW4M html
** building package indices
** installing vignettes
** testing if installed package can be loaded from temporary location
** testing if installed package can be loaded from final location
** testing if installed package keeps a record of temporary installation path
install for x64
* installing *source* package 'ropls' ...
** testing if installed package can be loaded
* MD5 sums
packaged installation of 'ropls' as ropls_1.15.26.zip
* DONE (ropls)