| Back to Multiple platform build/check report for BioC 3.9 |
|
This page was generated on 2019-04-09 13:27:08 -0400 (Tue, 09 Apr 2019).
| Package 1380/1703 | Hostname | OS / Arch | INSTALL | BUILD | CHECK | BUILD BIN | ||||||
| rols 2.11.1 Laurent Gatto
| malbec2 | Linux (Ubuntu 18.04.2 LTS) / x86_64 | OK | OK | ERROR | |||||||
| tokay2 | Windows Server 2012 R2 Standard / x64 | OK | OK | ERROR | OK | |||||||
| celaya2 | OS X 10.11.6 El Capitan / x86_64 | OK | OK | ERROR | OK | |||||||
| merida2 | OS X 10.11.6 El Capitan / x86_64 | OK | [ OK ] | ERROR | OK |
| Package: rols |
| Version: 2.11.1 |
| Command: /Library/Frameworks/R.framework/Versions/Current/Resources/bin/R CMD build --keep-empty-dirs --no-resave-data rols |
| StartedAt: 2019-04-08 20:22:27 -0400 (Mon, 08 Apr 2019) |
| EndedAt: 2019-04-08 20:26:38 -0400 (Mon, 08 Apr 2019) |
| EllapsedTime: 250.4 seconds |
| RetCode: 0 |
| Status: OK |
| PackageFile: rols_2.11.1.tar.gz |
| PackageFileSize: 368.3 KiB |
############################################################################## ############################################################################## ### ### Running command: ### ### /Library/Frameworks/R.framework/Versions/Current/Resources/bin/R CMD build --keep-empty-dirs --no-resave-data rols ### ############################################################################## ############################################################################## * checking for file ‘rols/DESCRIPTION’ ... OK * preparing ‘rols’: * checking DESCRIPTION meta-information ... OK * installing the package to build vignettes * creating vignettes ... OK * checking for LF line-endings in source and make files and shell scripts * checking for empty or unneeded directories * building ‘rols_2.11.1.tar.gz’